BEGIN:VCALENDAR
VERSION:2.0
PRODID:-//Parkway Assembly - ECPv6.15.20//NONSGML v1.0//EN
CALSCALE:GREGORIAN
METHOD:PUBLISH
X-WR-CALNAME:Parkway Assembly
X-ORIGINAL-URL:https://parkwayassembly.com
X-WR-CALDESC:Events for Parkway Assembly
REFRESH-INTERVAL;VALUE=DURATION:PT1H
X-Robots-Tag:noindex
X-PUBLISHED-TTL:PT1H
BEGIN:VTIMEZONE
TZID:America/New_York
BEGIN:DAYLIGHT
TZOFFSETFROM:-0500
TZOFFSETTO:-0400
TZNAME:EDT
DTSTART:20250309T070000
END:DAYLIGHT
BEGIN:STANDARD
TZOFFSETFROM:-0400
TZOFFSETTO:-0500
TZNAME:EST
DTSTART:20251102T060000
END:STANDARD
BEGIN:DAYLIGHT
TZOFFSETFROM:-0500
TZOFFSETTO:-0400
TZNAME:EDT
DTSTART:20260308T070000
END:DAYLIGHT
BEGIN:STANDARD
TZOFFSETFROM:-0400
TZOFFSETTO:-0500
TZNAME:EST
DTSTART:20261101T060000
END:STANDARD
BEGIN:DAYLIGHT
TZOFFSETFROM:-0500
TZOFFSETTO:-0400
TZNAME:EDT
DTSTART:20270314T070000
END:DAYLIGHT
BEGIN:STANDARD
TZOFFSETFROM:-0400
TZOFFSETTO:-0500
TZNAME:EST
DTSTART:20271107T060000
END:STANDARD
END:VTIMEZONE
BEGIN:VEVENT
DTSTART;TZID=America/New_York:20260426T100000
DTEND;TZID=America/New_York:20260426T104500
DTSTAMP:20260423T114525
CREATED:20260217T183001Z
LAST-MODIFIED:20260217T183001Z
UID:10003893-1777197600-1777200300@parkwayassembly.com
SUMMARY:Sunday School
DESCRIPTION:
URL:https://parkwayassembly.com/event/sunday-school-2/2026-04-26/
END:VEVENT
BEGIN:VEVENT
DTSTART;TZID=America/New_York:20260503T100000
DTEND;TZID=America/New_York:20260503T104500
DTSTAMP:20260423T114525
CREATED:20260217T183001Z
LAST-MODIFIED:20260217T183001Z
UID:10003894-1777802400-1777805100@parkwayassembly.com
SUMMARY:Sunday School
DESCRIPTION:
URL:https://parkwayassembly.com/event/sunday-school-2/2026-05-03/
END:VEVENT
BEGIN:VEVENT
DTSTART;TZID=America/New_York:20260510T100000
DTEND;TZID=America/New_York:20260510T104500
DTSTAMP:20260423T114525
CREATED:20260217T183001Z
LAST-MODIFIED:20260217T183001Z
UID:10003895-1778407200-1778409900@parkwayassembly.com
SUMMARY:Sunday School
DESCRIPTION:
URL:https://parkwayassembly.com/event/sunday-school-2/2026-05-10/
END:VEVENT
BEGIN:VEVENT
DTSTART;TZID=America/New_York:20260517T100000
DTEND;TZID=America/New_York:20260517T104500
DTSTAMP:20260423T114525
CREATED:20260217T183001Z
LAST-MODIFIED:20260217T183001Z
UID:10003896-1779012000-1779014700@parkwayassembly.com
SUMMARY:Sunday School
DESCRIPTION:
URL:https://parkwayassembly.com/event/sunday-school-2/2026-05-17/
END:VEVENT
BEGIN:VEVENT
DTSTART;TZID=America/New_York:20260524T100000
DTEND;TZID=America/New_York:20260524T104500
DTSTAMP:20260423T114525
CREATED:20260217T183001Z
LAST-MODIFIED:20260217T183001Z
UID:10003897-1779616800-1779619500@parkwayassembly.com
SUMMARY:Sunday School
DESCRIPTION:
URL:https://parkwayassembly.com/event/sunday-school-2/2026-05-24/
END:VEVENT
BEGIN:VEVENT
DTSTART;TZID=America/New_York:20260531T100000
DTEND;TZID=America/New_York:20260531T104500
DTSTAMP:20260423T114525
CREATED:20260217T183001Z
LAST-MODIFIED:20260217T183001Z
UID:10003898-1780221600-1780224300@parkwayassembly.com
SUMMARY:Sunday School
DESCRIPTION:
URL:https://parkwayassembly.com/event/sunday-school-2/2026-05-31/
END:VEVENT
BEGIN:VEVENT
DTSTART;TZID=America/New_York:20260607T100000
DTEND;TZID=America/New_York:20260607T104500
DTSTAMP:20260423T114525
CREATED:20260217T183001Z
LAST-MODIFIED:20260217T183001Z
UID:10003899-1780826400-1780829100@parkwayassembly.com
SUMMARY:Sunday School
DESCRIPTION:
URL:https://parkwayassembly.com/event/sunday-school-2/2026-06-07/
END:VEVENT
BEGIN:VEVENT
DTSTART;TZID=America/New_York:20260614T100000
DTEND;TZID=America/New_York:20260614T104500
DTSTAMP:20260423T114525
CREATED:20260217T183001Z
LAST-MODIFIED:20260217T183001Z
UID:10003900-1781431200-1781433900@parkwayassembly.com
SUMMARY:Sunday School
DESCRIPTION:
URL:https://parkwayassembly.com/event/sunday-school-2/2026-06-14/
END:VEVENT
BEGIN:VEVENT
DTSTART;TZID=America/New_York:20260621T100000
DTEND;TZID=America/New_York:20260621T104500
DTSTAMP:20260423T114525
CREATED:20260217T183001Z
LAST-MODIFIED:20260217T183001Z
UID:10003901-1782036000-1782038700@parkwayassembly.com
SUMMARY:Sunday School
DESCRIPTION:
URL:https://parkwayassembly.com/event/sunday-school-2/2026-06-21/
END:VEVENT
BEGIN:VEVENT
DTSTART;TZID=America/New_York:20260628T100000
DTEND;TZID=America/New_York:20260628T104500
DTSTAMP:20260423T114525
CREATED:20260217T183001Z
LAST-MODIFIED:20260217T183001Z
UID:10003902-1782640800-1782643500@parkwayassembly.com
SUMMARY:Sunday School
DESCRIPTION:
URL:https://parkwayassembly.com/event/sunday-school-2/2026-06-28/
END:VEVENT
BEGIN:VEVENT
DTSTART;TZID=America/New_York:20260705T100000
DTEND;TZID=America/New_York:20260705T104500
DTSTAMP:20260423T114525
CREATED:20260217T183001Z
LAST-MODIFIED:20260217T183001Z
UID:10003903-1783245600-1783248300@parkwayassembly.com
SUMMARY:Sunday School
DESCRIPTION:
URL:https://parkwayassembly.com/event/sunday-school-2/2026-07-05/
END:VEVENT
BEGIN:VEVENT
DTSTART;TZID=America/New_York:20260712T100000
DTEND;TZID=America/New_York:20260712T104500
DTSTAMP:20260423T114525
CREATED:20260217T183001Z
LAST-MODIFIED:20260217T183001Z
UID:10003904-1783850400-1783853100@parkwayassembly.com
SUMMARY:Sunday School
DESCRIPTION:
URL:https://parkwayassembly.com/event/sunday-school-2/2026-07-12/
END:VEVENT
BEGIN:VEVENT
DTSTART;TZID=America/New_York:20260719T100000
DTEND;TZID=America/New_York:20260719T104500
DTSTAMP:20260423T114525
CREATED:20260217T183001Z
LAST-MODIFIED:20260217T183001Z
UID:10003905-1784455200-1784457900@parkwayassembly.com
SUMMARY:Sunday School
DESCRIPTION:
URL:https://parkwayassembly.com/event/sunday-school-2/2026-07-19/
END:VEVENT
BEGIN:VEVENT
DTSTART;TZID=America/New_York:20260726T100000
DTEND;TZID=America/New_York:20260726T104500
DTSTAMP:20260423T114525
CREATED:20260217T183001Z
LAST-MODIFIED:20260217T183001Z
UID:10003906-1785060000-1785062700@parkwayassembly.com
SUMMARY:Sunday School
DESCRIPTION:
URL:https://parkwayassembly.com/event/sunday-school-2/2026-07-26/
END:VEVENT
BEGIN:VEVENT
DTSTART;TZID=America/New_York:20260802T100000
DTEND;TZID=America/New_York:20260802T104500
DTSTAMP:20260423T114525
CREATED:20260217T183001Z
LAST-MODIFIED:20260217T183001Z
UID:10003907-1785664800-1785667500@parkwayassembly.com
SUMMARY:Sunday School
DESCRIPTION:
URL:https://parkwayassembly.com/event/sunday-school-2/2026-08-02/
END:VEVENT
BEGIN:VEVENT
DTSTART;TZID=America/New_York:20260809T100000
DTEND;TZID=America/New_York:20260809T104500
DTSTAMP:20260423T114525
CREATED:20260217T183001Z
LAST-MODIFIED:20260217T183001Z
UID:10003908-1786269600-1786272300@parkwayassembly.com
SUMMARY:Sunday School
DESCRIPTION:
URL:https://parkwayassembly.com/event/sunday-school-2/2026-08-09/
END:VEVENT
BEGIN:VEVENT
DTSTART;TZID=America/New_York:20260816T100000
DTEND;TZID=America/New_York:20260816T104500
DTSTAMP:20260423T114525
CREATED:20260217T183001Z
LAST-MODIFIED:20260217T183001Z
UID:10003909-1786874400-1786877100@parkwayassembly.com
SUMMARY:Sunday School
DESCRIPTION:
URL:https://parkwayassembly.com/event/sunday-school-2/2026-08-16/
END:VEVENT
BEGIN:VEVENT
DTSTART;TZID=America/New_York:20260823T100000
DTEND;TZID=America/New_York:20260823T104500
DTSTAMP:20260423T114525
CREATED:20260217T183001Z
LAST-MODIFIED:20260217T183001Z
UID:10003910-1787479200-1787481900@parkwayassembly.com
SUMMARY:Sunday School
DESCRIPTION:
URL:https://parkwayassembly.com/event/sunday-school-2/2026-08-23/
END:VEVENT
BEGIN:VEVENT
DTSTART;TZID=America/New_York:20260830T100000
DTEND;TZID=America/New_York:20260830T104500
DTSTAMP:20260423T114525
CREATED:20260217T183001Z
LAST-MODIFIED:20260217T183001Z
UID:10003911-1788084000-1788086700@parkwayassembly.com
SUMMARY:Sunday School
DESCRIPTION:
URL:https://parkwayassembly.com/event/sunday-school-2/2026-08-30/
END:VEVENT
BEGIN:VEVENT
DTSTART;TZID=America/New_York:20260906T100000
DTEND;TZID=America/New_York:20260906T104500
DTSTAMP:20260423T114525
CREATED:20260217T183001Z
LAST-MODIFIED:20260217T183001Z
UID:10003912-1788688800-1788691500@parkwayassembly.com
SUMMARY:Sunday School
DESCRIPTION:
URL:https://parkwayassembly.com/event/sunday-school-2/2026-09-06/
END:VEVENT
BEGIN:VEVENT
DTSTART;TZID=America/New_York:20260913T100000
DTEND;TZID=America/New_York:20260913T104500
DTSTAMP:20260423T114525
CREATED:20260217T183001Z
LAST-MODIFIED:20260217T183001Z
UID:10003913-1789293600-1789296300@parkwayassembly.com
SUMMARY:Sunday School
DESCRIPTION:
URL:https://parkwayassembly.com/event/sunday-school-2/2026-09-13/
END:VEVENT
BEGIN:VEVENT
DTSTART;TZID=America/New_York:20260920T100000
DTEND;TZID=America/New_York:20260920T104500
DTSTAMP:20260423T114525
CREATED:20260217T183001Z
LAST-MODIFIED:20260217T183001Z
UID:10003914-1789898400-1789901100@parkwayassembly.com
SUMMARY:Sunday School
DESCRIPTION:
URL:https://parkwayassembly.com/event/sunday-school-2/2026-09-20/
END:VEVENT
BEGIN:VEVENT
DTSTART;TZID=America/New_York:20260927T100000
DTEND;TZID=America/New_York:20260927T104500
DTSTAMP:20260423T114525
CREATED:20260217T183001Z
LAST-MODIFIED:20260217T183001Z
UID:10003915-1790503200-1790505900@parkwayassembly.com
SUMMARY:Sunday School
DESCRIPTION:
URL:https://parkwayassembly.com/event/sunday-school-2/2026-09-27/
END:VEVENT
BEGIN:VEVENT
DTSTART;TZID=America/New_York:20261004T100000
DTEND;TZID=America/New_York:20261004T104500
DTSTAMP:20260423T114525
CREATED:20260217T183001Z
LAST-MODIFIED:20260217T183001Z
UID:10003916-1791108000-1791110700@parkwayassembly.com
SUMMARY:Sunday School
DESCRIPTION:
URL:https://parkwayassembly.com/event/sunday-school-2/2026-10-04/
END:VEVENT
BEGIN:VEVENT
DTSTART;TZID=America/New_York:20261011T100000
DTEND;TZID=America/New_York:20261011T104500
DTSTAMP:20260423T114525
CREATED:20260217T183001Z
LAST-MODIFIED:20260217T183001Z
UID:10003917-1791712800-1791715500@parkwayassembly.com
SUMMARY:Sunday School
DESCRIPTION:
URL:https://parkwayassembly.com/event/sunday-school-2/2026-10-11/
END:VEVENT
BEGIN:VEVENT
DTSTART;TZID=America/New_York:20261018T100000
DTEND;TZID=America/New_York:20261018T104500
DTSTAMP:20260423T114525
CREATED:20260217T183001Z
LAST-MODIFIED:20260217T183001Z
UID:10003918-1792317600-1792320300@parkwayassembly.com
SUMMARY:Sunday School
DESCRIPTION:
URL:https://parkwayassembly.com/event/sunday-school-2/2026-10-18/
END:VEVENT
BEGIN:VEVENT
DTSTART;TZID=America/New_York:20261025T100000
DTEND;TZID=America/New_York:20261025T104500
DTSTAMP:20260423T114525
CREATED:20260217T183001Z
LAST-MODIFIED:20260217T183001Z
UID:10003919-1792922400-1792925100@parkwayassembly.com
SUMMARY:Sunday School
DESCRIPTION:
URL:https://parkwayassembly.com/event/sunday-school-2/2026-10-25/
END:VEVENT
BEGIN:VEVENT
DTSTART;TZID=America/New_York:20261101T100000
DTEND;TZID=America/New_York:20261101T104500
DTSTAMP:20260423T114525
CREATED:20260217T183001Z
LAST-MODIFIED:20260217T183001Z
UID:10003920-1793527200-1793529900@parkwayassembly.com
SUMMARY:Sunday School
DESCRIPTION:
URL:https://parkwayassembly.com/event/sunday-school-2/2026-11-01/
END:VEVENT
BEGIN:VEVENT
DTSTART;TZID=America/New_York:20261108T100000
DTEND;TZID=America/New_York:20261108T104500
DTSTAMP:20260423T114525
CREATED:20260217T183001Z
LAST-MODIFIED:20260217T183001Z
UID:10003921-1794132000-1794134700@parkwayassembly.com
SUMMARY:Sunday School
DESCRIPTION:
URL:https://parkwayassembly.com/event/sunday-school-2/2026-11-08/
END:VEVENT
BEGIN:VEVENT
DTSTART;TZID=America/New_York:20261115T100000
DTEND;TZID=America/New_York:20261115T104500
DTSTAMP:20260423T114525
CREATED:20260217T183001Z
LAST-MODIFIED:20260217T183001Z
UID:10003922-1794736800-1794739500@parkwayassembly.com
SUMMARY:Sunday School
DESCRIPTION:
URL:https://parkwayassembly.com/event/sunday-school-2/2026-11-15/
END:VEVENT
END:VCALENDAR