BEGIN:VCALENDAR
VERSION:2.0
PRODID:-//Parkway Assembly - ECPv6.15.20//NONSGML v1.0//EN
CALSCALE:GREGORIAN
METHOD:PUBLISH
X-WR-CALNAME:Parkway Assembly
X-ORIGINAL-URL:https://parkwayassembly.com
X-WR-CALDESC:Events for Parkway Assembly
REFRESH-INTERVAL;VALUE=DURATION:PT1H
X-Robots-Tag:noindex
X-PUBLISHED-TTL:PT1H
BEGIN:VTIMEZONE
TZID:America/New_York
BEGIN:DAYLIGHT
TZOFFSETFROM:-0500
TZOFFSETTO:-0400
TZNAME:EDT
DTSTART:20250309T070000
END:DAYLIGHT
BEGIN:STANDARD
TZOFFSETFROM:-0400
TZOFFSETTO:-0500
TZNAME:EST
DTSTART:20251102T060000
END:STANDARD
BEGIN:DAYLIGHT
TZOFFSETFROM:-0500
TZOFFSETTO:-0400
TZNAME:EDT
DTSTART:20260308T070000
END:DAYLIGHT
BEGIN:STANDARD
TZOFFSETFROM:-0400
TZOFFSETTO:-0500
TZNAME:EST
DTSTART:20261101T060000
END:STANDARD
BEGIN:DAYLIGHT
TZOFFSETFROM:-0500
TZOFFSETTO:-0400
TZNAME:EDT
DTSTART:20270314T070000
END:DAYLIGHT
BEGIN:STANDARD
TZOFFSETFROM:-0400
TZOFFSETTO:-0500
TZNAME:EST
DTSTART:20271107T060000
END:STANDARD
END:VTIMEZONE
BEGIN:VEVENT
DTSTART;TZID=America/New_York:20260503T100000
DTEND;TZID=America/New_York:20260503T104500
DTSTAMP:20260425T073116
CREATED:20260217T183001Z
LAST-MODIFIED:20260217T183001Z
UID:10003894-1777802400-1777805100@parkwayassembly.com
SUMMARY:Sunday School
DESCRIPTION:
URL:https://parkwayassembly.com/event/sunday-school-2/2026-05-03/
LOCATION:GA
END:VEVENT
BEGIN:VEVENT
DTSTART;TZID=America/New_York:20260503T110000
DTEND;TZID=America/New_York:20260503T120000
DTSTAMP:20260425T073116
CREATED:20260217T182015Z
LAST-MODIFIED:20260217T182310Z
UID:10003573-1777806000-1777809600@parkwayassembly.com
SUMMARY:Morning Worship
DESCRIPTION:
URL:https://parkwayassembly.com/event/morning-worship-3-2/2026-05-03/
LOCATION:Parkway Assembly\, 5191 Eisenhower Parkway\, Macon\, GA\, 31206\, United States
END:VEVENT
BEGIN:VEVENT
DTSTART;TZID=America/New_York:20260506T190000
DTEND;TZID=America/New_York:20260506T200000
DTSTAMP:20260425T073116
CREATED:20260217T183423Z
LAST-MODIFIED:20260217T183457Z
UID:10004163-1778094000-1778097600@parkwayassembly.com
SUMMARY:Growth Groups and Parkway Kids
DESCRIPTION:
URL:https://parkwayassembly.com/event/growth-groups-and-parkway-kids/2026-05-06/
LOCATION:GA
END:VEVENT
BEGIN:VEVENT
DTSTART;TZID=America/New_York:20260510T100000
DTEND;TZID=America/New_York:20260510T104500
DTSTAMP:20260425T073116
CREATED:20260217T183001Z
LAST-MODIFIED:20260217T183001Z
UID:10003895-1778407200-1778409900@parkwayassembly.com
SUMMARY:Sunday School
DESCRIPTION:
URL:https://parkwayassembly.com/event/sunday-school-2/2026-05-10/
LOCATION:GA
END:VEVENT
BEGIN:VEVENT
DTSTART;TZID=America/New_York:20260510T110000
DTEND;TZID=America/New_York:20260510T120000
DTSTAMP:20260425T073116
CREATED:20260217T182015Z
LAST-MODIFIED:20260217T182310Z
UID:10003574-1778410800-1778414400@parkwayassembly.com
SUMMARY:Morning Worship
DESCRIPTION:
URL:https://parkwayassembly.com/event/morning-worship-3-2/2026-05-10/
LOCATION:Parkway Assembly\, 5191 Eisenhower Parkway\, Macon\, GA\, 31206\, United States
END:VEVENT
BEGIN:VEVENT
DTSTART;TZID=America/New_York:20260513T190000
DTEND;TZID=America/New_York:20260513T200000
DTSTAMP:20260425T073116
CREATED:20260217T183423Z
LAST-MODIFIED:20260217T183457Z
UID:10004164-1778698800-1778702400@parkwayassembly.com
SUMMARY:Growth Groups and Parkway Kids
DESCRIPTION:
URL:https://parkwayassembly.com/event/growth-groups-and-parkway-kids/2026-05-13/
LOCATION:GA
END:VEVENT
BEGIN:VEVENT
DTSTART;TZID=America/New_York:20260517T100000
DTEND;TZID=America/New_York:20260517T104500
DTSTAMP:20260425T073117
CREATED:20260217T183001Z
LAST-MODIFIED:20260217T183001Z
UID:10003896-1779012000-1779014700@parkwayassembly.com
SUMMARY:Sunday School
DESCRIPTION:
URL:https://parkwayassembly.com/event/sunday-school-2/2026-05-17/
LOCATION:GA
END:VEVENT
BEGIN:VEVENT
DTSTART;TZID=America/New_York:20260517T110000
DTEND;TZID=America/New_York:20260517T120000
DTSTAMP:20260425T073117
CREATED:20260217T182015Z
LAST-MODIFIED:20260217T182310Z
UID:10003575-1779015600-1779019200@parkwayassembly.com
SUMMARY:Morning Worship
DESCRIPTION:
URL:https://parkwayassembly.com/event/morning-worship-3-2/2026-05-17/
LOCATION:Parkway Assembly\, 5191 Eisenhower Parkway\, Macon\, GA\, 31206\, United States
END:VEVENT
BEGIN:VEVENT
DTSTART;TZID=America/New_York:20260520T190000
DTEND;TZID=America/New_York:20260520T200000
DTSTAMP:20260425T073117
CREATED:20260217T183423Z
LAST-MODIFIED:20260217T183457Z
UID:10004165-1779303600-1779307200@parkwayassembly.com
SUMMARY:Growth Groups and Parkway Kids
DESCRIPTION:
URL:https://parkwayassembly.com/event/growth-groups-and-parkway-kids/2026-05-20/
LOCATION:GA
END:VEVENT
BEGIN:VEVENT
DTSTART;TZID=America/New_York:20260524T100000
DTEND;TZID=America/New_York:20260524T104500
DTSTAMP:20260425T073117
CREATED:20260217T183001Z
LAST-MODIFIED:20260217T183001Z
UID:10003897-1779616800-1779619500@parkwayassembly.com
SUMMARY:Sunday School
DESCRIPTION:
URL:https://parkwayassembly.com/event/sunday-school-2/2026-05-24/
LOCATION:GA
END:VEVENT
BEGIN:VEVENT
DTSTART;TZID=America/New_York:20260524T110000
DTEND;TZID=America/New_York:20260524T120000
DTSTAMP:20260425T073117
CREATED:20260217T182015Z
LAST-MODIFIED:20260217T182310Z
UID:10003576-1779620400-1779624000@parkwayassembly.com
SUMMARY:Morning Worship
DESCRIPTION:
URL:https://parkwayassembly.com/event/morning-worship-3-2/2026-05-24/
LOCATION:Parkway Assembly\, 5191 Eisenhower Parkway\, Macon\, GA\, 31206\, United States
END:VEVENT
BEGIN:VEVENT
DTSTART;TZID=America/New_York:20260527T190000
DTEND;TZID=America/New_York:20260527T200000
DTSTAMP:20260425T073117
CREATED:20260217T183423Z
LAST-MODIFIED:20260217T183457Z
UID:10004166-1779908400-1779912000@parkwayassembly.com
SUMMARY:Growth Groups and Parkway Kids
DESCRIPTION:
URL:https://parkwayassembly.com/event/growth-groups-and-parkway-kids/2026-05-27/
LOCATION:GA
END:VEVENT
BEGIN:VEVENT
DTSTART;TZID=America/New_York:20260531T100000
DTEND;TZID=America/New_York:20260531T104500
DTSTAMP:20260425T073117
CREATED:20260217T183001Z
LAST-MODIFIED:20260217T183001Z
UID:10003898-1780221600-1780224300@parkwayassembly.com
SUMMARY:Sunday School
DESCRIPTION:
URL:https://parkwayassembly.com/event/sunday-school-2/2026-05-31/
LOCATION:GA
END:VEVENT
BEGIN:VEVENT
DTSTART;TZID=America/New_York:20260531T110000
DTEND;TZID=America/New_York:20260531T120000
DTSTAMP:20260425T073117
CREATED:20260217T182015Z
LAST-MODIFIED:20260217T182310Z
UID:10003577-1780225200-1780228800@parkwayassembly.com
SUMMARY:Morning Worship
DESCRIPTION:
URL:https://parkwayassembly.com/event/morning-worship-3-2/2026-05-31/
LOCATION:Parkway Assembly\, 5191 Eisenhower Parkway\, Macon\, GA\, 31206\, United States
END:VEVENT
END:VCALENDAR