BEGIN:VCALENDAR
VERSION:2.0
PRODID:-//Parkway Assembly - ECPv6.15.20//NONSGML v1.0//EN
CALSCALE:GREGORIAN
METHOD:PUBLISH
X-ORIGINAL-URL:https://parkwayassembly.com
X-WR-CALDESC:Events for Parkway Assembly
REFRESH-INTERVAL;VALUE=DURATION:PT1H
X-Robots-Tag:noindex
X-PUBLISHED-TTL:PT1H
BEGIN:VTIMEZONE
TZID:America/New_York
BEGIN:DAYLIGHT
TZOFFSETFROM:-0500
TZOFFSETTO:-0400
TZNAME:EDT
DTSTART:20250309T070000
END:DAYLIGHT
BEGIN:STANDARD
TZOFFSETFROM:-0400
TZOFFSETTO:-0500
TZNAME:EST
DTSTART:20251102T060000
END:STANDARD
BEGIN:DAYLIGHT
TZOFFSETFROM:-0500
TZOFFSETTO:-0400
TZNAME:EDT
DTSTART:20260308T070000
END:DAYLIGHT
BEGIN:STANDARD
TZOFFSETFROM:-0400
TZOFFSETTO:-0500
TZNAME:EST
DTSTART:20261101T060000
END:STANDARD
BEGIN:DAYLIGHT
TZOFFSETFROM:-0500
TZOFFSETTO:-0400
TZNAME:EDT
DTSTART:20270314T070000
END:DAYLIGHT
BEGIN:STANDARD
TZOFFSETFROM:-0400
TZOFFSETTO:-0500
TZNAME:EST
DTSTART:20271107T060000
END:STANDARD
END:VTIMEZONE
BEGIN:VEVENT
DTSTART;TZID=America/New_York:20260301T100000
DTEND;TZID=America/New_York:20260301T104500
DTSTAMP:20260423T131304
CREATED:20260217T183001Z
LAST-MODIFIED:20260217T183001Z
UID:10003885-1772359200-1772361900@parkwayassembly.com
SUMMARY:Sunday School
DESCRIPTION:
URL:https://parkwayassembly.com/event/sunday-school-2/2026-03-01/
LOCATION:GA
END:VEVENT
BEGIN:VEVENT
DTSTART;TZID=America/New_York:20260301T110000
DTEND;TZID=America/New_York:20260301T120000
DTSTAMP:20260423T131304
CREATED:20260217T182015Z
LAST-MODIFIED:20260217T182310Z
UID:10003564-1772362800-1772366400@parkwayassembly.com
SUMMARY:Morning Worship
DESCRIPTION:
URL:https://parkwayassembly.com/event/morning-worship-3-2/2026-03-01/
LOCATION:Parkway Assembly\, 5191 Eisenhower Parkway\, Macon\, GA\, 31206\, United States
END:VEVENT
BEGIN:VEVENT
DTSTART;TZID=America/New_York:20260304T190000
DTEND;TZID=America/New_York:20260304T200000
DTSTAMP:20260423T131304
CREATED:20260217T183423Z
LAST-MODIFIED:20260217T183457Z
UID:10004154-1772650800-1772654400@parkwayassembly.com
SUMMARY:Growth Groups and Parkway Kids
DESCRIPTION:
URL:https://parkwayassembly.com/event/growth-groups-and-parkway-kids/2026-03-04/
LOCATION:GA
END:VEVENT
BEGIN:VEVENT
DTSTART;TZID=America/New_York:20260308T100000
DTEND;TZID=America/New_York:20260308T104500
DTSTAMP:20260423T131304
CREATED:20260217T183001Z
LAST-MODIFIED:20260217T183001Z
UID:10003886-1772964000-1772966700@parkwayassembly.com
SUMMARY:Sunday School
DESCRIPTION:
URL:https://parkwayassembly.com/event/sunday-school-2/2026-03-08/
LOCATION:GA
END:VEVENT
BEGIN:VEVENT
DTSTART;TZID=America/New_York:20260308T110000
DTEND;TZID=America/New_York:20260308T120000
DTSTAMP:20260423T131304
CREATED:20260217T182015Z
LAST-MODIFIED:20260217T182310Z
UID:10003565-1772967600-1772971200@parkwayassembly.com
SUMMARY:Morning Worship
DESCRIPTION:
URL:https://parkwayassembly.com/event/morning-worship-3-2/2026-03-08/
LOCATION:Parkway Assembly\, 5191 Eisenhower Parkway\, Macon\, GA\, 31206\, United States
END:VEVENT
BEGIN:VEVENT
DTSTART;TZID=America/New_York:20260310T183000
DTEND;TZID=America/New_York:20260310T203000
DTSTAMP:20260423T131304
CREATED:20260217T184054Z
LAST-MODIFIED:20260217T184054Z
UID:10004418-1773167400-1773174600@parkwayassembly.com
SUMMARY:Ladies St. Patrick's Day Party
DESCRIPTION:
URL:https://parkwayassembly.com/event/ladies-st-patricks-day-party/
LOCATION:Parkway Assembly\, 5191 Eisenhower Parkway\, Macon\, GA\, 31206\, United States
END:VEVENT
BEGIN:VEVENT
DTSTART;TZID=America/New_York:20260311T190000
DTEND;TZID=America/New_York:20260311T200000
DTSTAMP:20260423T131304
CREATED:20260217T183423Z
LAST-MODIFIED:20260217T183457Z
UID:10004155-1773255600-1773259200@parkwayassembly.com
SUMMARY:Growth Groups and Parkway Kids
DESCRIPTION:
URL:https://parkwayassembly.com/event/growth-groups-and-parkway-kids/2026-03-11/
LOCATION:GA
END:VEVENT
BEGIN:VEVENT
DTSTART;TZID=America/New_York:20260314T130000
DTEND;TZID=America/New_York:20260314T160000
DTSTAMP:20260423T131304
CREATED:20260217T184002Z
LAST-MODIFIED:20260217T184002Z
UID:10004417-1773493200-1773504000@parkwayassembly.com
SUMMARY:Men's Shooting Event
DESCRIPTION:
URL:https://parkwayassembly.com/event/mens-shooting-event/
LOCATION:Parkway Assembly\, 5191 Eisenhower Parkway\, Macon\, GA\, 31206\, United States
END:VEVENT
BEGIN:VEVENT
DTSTART;TZID=America/New_York:20260315T100000
DTEND;TZID=America/New_York:20260315T104500
DTSTAMP:20260423T131304
CREATED:20260217T183001Z
LAST-MODIFIED:20260217T183001Z
UID:10003887-1773568800-1773571500@parkwayassembly.com
SUMMARY:Sunday School
DESCRIPTION:
URL:https://parkwayassembly.com/event/sunday-school-2/2026-03-15/
LOCATION:GA
END:VEVENT
BEGIN:VEVENT
DTSTART;TZID=America/New_York:20260315T110000
DTEND;TZID=America/New_York:20260315T120000
DTSTAMP:20260423T131304
CREATED:20260217T182015Z
LAST-MODIFIED:20260217T182310Z
UID:10003566-1773572400-1773576000@parkwayassembly.com
SUMMARY:Morning Worship
DESCRIPTION:
URL:https://parkwayassembly.com/event/morning-worship-3-2/2026-03-15/
LOCATION:Parkway Assembly\, 5191 Eisenhower Parkway\, Macon\, GA\, 31206\, United States
END:VEVENT
BEGIN:VEVENT
DTSTART;TZID=America/New_York:20260315T130000
DTEND;TZID=America/New_York:20260315T140000
DTSTAMP:20260423T131304
CREATED:20260217T183718Z
LAST-MODIFIED:20260217T183718Z
UID:10004414-1773579600-1773583200@parkwayassembly.com
SUMMARY:Annual Business Meeting
DESCRIPTION:
URL:https://parkwayassembly.com/event/annual-business-meeting/
LOCATION:Parkway Assembly\, 5191 Eisenhower Parkway\, Macon\, GA\, 31206\, United States
END:VEVENT
BEGIN:VEVENT
DTSTART;TZID=America/New_York:20260318T190000
DTEND;TZID=America/New_York:20260318T200000
DTSTAMP:20260423T131304
CREATED:20260217T183423Z
LAST-MODIFIED:20260217T183457Z
UID:10004156-1773860400-1773864000@parkwayassembly.com
SUMMARY:Growth Groups and Parkway Kids
DESCRIPTION:
URL:https://parkwayassembly.com/event/growth-groups-and-parkway-kids/2026-03-18/
LOCATION:GA
END:VEVENT
BEGIN:VEVENT
DTSTART;TZID=America/New_York:20260321T090000
DTEND;TZID=America/New_York:20260321T150000
DTSTAMP:20260423T131304
CREATED:20260217T183816Z
LAST-MODIFIED:20260217T183816Z
UID:10004415-1774083600-1774105200@parkwayassembly.com
SUMMARY:Group Hike
DESCRIPTION:
URL:https://parkwayassembly.com/event/group-hike/
LOCATION:Parkway Assembly\, 5191 Eisenhower Parkway\, Macon\, GA\, 31206\, United States
END:VEVENT
BEGIN:VEVENT
DTSTART;TZID=America/New_York:20260322T100000
DTEND;TZID=America/New_York:20260322T104500
DTSTAMP:20260423T131304
CREATED:20260217T183001Z
LAST-MODIFIED:20260217T183001Z
UID:10003888-1774173600-1774176300@parkwayassembly.com
SUMMARY:Sunday School
DESCRIPTION:
URL:https://parkwayassembly.com/event/sunday-school-2/2026-03-22/
LOCATION:GA
END:VEVENT
BEGIN:VEVENT
DTSTART;TZID=America/New_York:20260322T110000
DTEND;TZID=America/New_York:20260322T120000
DTSTAMP:20260423T131304
CREATED:20260217T182015Z
LAST-MODIFIED:20260217T182310Z
UID:10003567-1774177200-1774180800@parkwayassembly.com
SUMMARY:Morning Worship
DESCRIPTION:
URL:https://parkwayassembly.com/event/morning-worship-3-2/2026-03-22/
LOCATION:Parkway Assembly\, 5191 Eisenhower Parkway\, Macon\, GA\, 31206\, United States
END:VEVENT
BEGIN:VEVENT
DTSTART;TZID=America/New_York:20260325T190000
DTEND;TZID=America/New_York:20260325T200000
DTSTAMP:20260423T131304
CREATED:20260217T183423Z
LAST-MODIFIED:20260217T183457Z
UID:10004157-1774465200-1774468800@parkwayassembly.com
SUMMARY:Growth Groups and Parkway Kids
DESCRIPTION:
URL:https://parkwayassembly.com/event/growth-groups-and-parkway-kids/2026-03-25/
LOCATION:GA
END:VEVENT
BEGIN:VEVENT
DTSTART;TZID=America/New_York:20260328T100000
DTEND;TZID=America/New_York:20260328T120000
DTSTAMP:20260423T131304
CREATED:20260217T183916Z
LAST-MODIFIED:20260217T183916Z
UID:10004416-1774692000-1774699200@parkwayassembly.com
SUMMARY:Easter Egg Hunt
DESCRIPTION:
URL:https://parkwayassembly.com/event/easter-egg-hunt-3/
LOCATION:Parkway Assembly\, 5191 Eisenhower Parkway\, Macon\, GA\, 31206\, United States
END:VEVENT
BEGIN:VEVENT
DTSTART;TZID=America/New_York:20260329T100000
DTEND;TZID=America/New_York:20260329T104500
DTSTAMP:20260423T131304
CREATED:20260217T183001Z
LAST-MODIFIED:20260217T183001Z
UID:10003889-1774778400-1774781100@parkwayassembly.com
SUMMARY:Sunday School
DESCRIPTION:
URL:https://parkwayassembly.com/event/sunday-school-2/2026-03-29/
LOCATION:GA
END:VEVENT
BEGIN:VEVENT
DTSTART;TZID=America/New_York:20260329T110000
DTEND;TZID=America/New_York:20260329T120000
DTSTAMP:20260423T131304
CREATED:20260217T182015Z
LAST-MODIFIED:20260217T182310Z
UID:10003568-1774782000-1774785600@parkwayassembly.com
SUMMARY:Morning Worship
DESCRIPTION:
URL:https://parkwayassembly.com/event/morning-worship-3-2/2026-03-29/
LOCATION:Parkway Assembly\, 5191 Eisenhower Parkway\, Macon\, GA\, 31206\, United States
END:VEVENT
END:VCALENDAR