BEGIN:VCALENDAR
VERSION:2.0
PRODID:-//Parkway Assembly - ECPv6.15.20//NONSGML v1.0//EN
CALSCALE:GREGORIAN
METHOD:PUBLISH
X-ORIGINAL-URL:https://parkwayassembly.com
X-WR-CALDESC:Events for Parkway Assembly
REFRESH-INTERVAL;VALUE=DURATION:PT1H
X-Robots-Tag:noindex
X-PUBLISHED-TTL:PT1H
BEGIN:VTIMEZONE
TZID:America/New_York
BEGIN:DAYLIGHT
TZOFFSETFROM:-0500
TZOFFSETTO:-0400
TZNAME:EDT
DTSTART:20250309T070000
END:DAYLIGHT
BEGIN:STANDARD
TZOFFSETFROM:-0400
TZOFFSETTO:-0500
TZNAME:EST
DTSTART:20251102T060000
END:STANDARD
BEGIN:DAYLIGHT
TZOFFSETFROM:-0500
TZOFFSETTO:-0400
TZNAME:EDT
DTSTART:20260308T070000
END:DAYLIGHT
BEGIN:STANDARD
TZOFFSETFROM:-0400
TZOFFSETTO:-0500
TZNAME:EST
DTSTART:20261101T060000
END:STANDARD
BEGIN:DAYLIGHT
TZOFFSETFROM:-0500
TZOFFSETTO:-0400
TZNAME:EDT
DTSTART:20270314T070000
END:DAYLIGHT
BEGIN:STANDARD
TZOFFSETFROM:-0400
TZOFFSETTO:-0500
TZNAME:EST
DTSTART:20271107T060000
END:STANDARD
END:VTIMEZONE
BEGIN:VEVENT
DTSTART;TZID=America/New_York:20260201T100000
DTEND;TZID=America/New_York:20260201T104500
DTSTAMP:20260423T143722
CREATED:20260217T183001Z
LAST-MODIFIED:20260217T183001Z
UID:10003881-1769940000-1769942700@parkwayassembly.com
SUMMARY:Sunday School
DESCRIPTION:
URL:https://parkwayassembly.com/event/sunday-school-2/2026-02-01/
LOCATION:GA
END:VEVENT
BEGIN:VEVENT
DTSTART;TZID=America/New_York:20260201T110000
DTEND;TZID=America/New_York:20260201T120000
DTSTAMP:20260423T143722
CREATED:20260217T182015Z
LAST-MODIFIED:20260217T182310Z
UID:10003560-1769943600-1769947200@parkwayassembly.com
SUMMARY:Morning Worship
DESCRIPTION:
URL:https://parkwayassembly.com/event/morning-worship-3-2/2026-02-01/
LOCATION:Parkway Assembly\, 5191 Eisenhower Parkway\, Macon\, GA\, 31206\, United States
END:VEVENT
BEGIN:VEVENT
DTSTART;TZID=America/New_York:20260204T190000
DTEND;TZID=America/New_York:20260204T200000
DTSTAMP:20260423T143722
CREATED:20260217T183423Z
LAST-MODIFIED:20260217T183457Z
UID:10004150-1770231600-1770235200@parkwayassembly.com
SUMMARY:Growth Groups and Parkway Kids
DESCRIPTION:
URL:https://parkwayassembly.com/event/growth-groups-and-parkway-kids/2026-02-04/
LOCATION:GA
END:VEVENT
BEGIN:VEVENT
DTSTART;TZID=America/New_York:20260208T100000
DTEND;TZID=America/New_York:20260208T104500
DTSTAMP:20260423T143722
CREATED:20260217T183001Z
LAST-MODIFIED:20260217T183001Z
UID:10003882-1770544800-1770547500@parkwayassembly.com
SUMMARY:Sunday School
DESCRIPTION:
URL:https://parkwayassembly.com/event/sunday-school-2/2026-02-08/
LOCATION:GA
END:VEVENT
BEGIN:VEVENT
DTSTART;TZID=America/New_York:20260208T110000
DTEND;TZID=America/New_York:20260208T120000
DTSTAMP:20260423T143722
CREATED:20260217T182015Z
LAST-MODIFIED:20260217T182310Z
UID:10003561-1770548400-1770552000@parkwayassembly.com
SUMMARY:Morning Worship
DESCRIPTION:
URL:https://parkwayassembly.com/event/morning-worship-3-2/2026-02-08/
LOCATION:Parkway Assembly\, 5191 Eisenhower Parkway\, Macon\, GA\, 31206\, United States
END:VEVENT
BEGIN:VEVENT
DTSTART;TZID=America/New_York:20260211T190000
DTEND;TZID=America/New_York:20260211T200000
DTSTAMP:20260423T143722
CREATED:20260217T183423Z
LAST-MODIFIED:20260217T183457Z
UID:10004151-1770836400-1770840000@parkwayassembly.com
SUMMARY:Growth Groups and Parkway Kids
DESCRIPTION:
URL:https://parkwayassembly.com/event/growth-groups-and-parkway-kids/2026-02-11/
LOCATION:GA
END:VEVENT
BEGIN:VEVENT
DTSTART;TZID=America/New_York:20260215T100000
DTEND;TZID=America/New_York:20260215T104500
DTSTAMP:20260423T143722
CREATED:20260217T183001Z
LAST-MODIFIED:20260217T183001Z
UID:10003883-1771149600-1771152300@parkwayassembly.com
SUMMARY:Sunday School
DESCRIPTION:
URL:https://parkwayassembly.com/event/sunday-school-2/2026-02-15/
LOCATION:GA
END:VEVENT
BEGIN:VEVENT
DTSTART;TZID=America/New_York:20260215T110000
DTEND;TZID=America/New_York:20260215T120000
DTSTAMP:20260423T143722
CREATED:20260217T182015Z
LAST-MODIFIED:20260217T182310Z
UID:10003562-1771153200-1771156800@parkwayassembly.com
SUMMARY:Morning Worship
DESCRIPTION:
URL:https://parkwayassembly.com/event/morning-worship-3-2/2026-02-15/
LOCATION:Parkway Assembly\, 5191 Eisenhower Parkway\, Macon\, GA\, 31206\, United States
END:VEVENT
BEGIN:VEVENT
DTSTART;TZID=America/New_York:20260218T190000
DTEND;TZID=America/New_York:20260218T200000
DTSTAMP:20260423T143722
CREATED:20260217T183423Z
LAST-MODIFIED:20260217T183457Z
UID:10004152-1771441200-1771444800@parkwayassembly.com
SUMMARY:Growth Groups and Parkway Kids
DESCRIPTION:
URL:https://parkwayassembly.com/event/growth-groups-and-parkway-kids/2026-02-18/
LOCATION:GA
END:VEVENT
BEGIN:VEVENT
DTSTART;TZID=America/New_York:20260222T100000
DTEND;TZID=America/New_York:20260222T104500
DTSTAMP:20260423T143722
CREATED:20260217T183001Z
LAST-MODIFIED:20260217T183001Z
UID:10003884-1771754400-1771757100@parkwayassembly.com
SUMMARY:Sunday School
DESCRIPTION:
URL:https://parkwayassembly.com/event/sunday-school-2/2026-02-22/
LOCATION:GA
END:VEVENT
BEGIN:VEVENT
DTSTART;TZID=America/New_York:20260222T110000
DTEND;TZID=America/New_York:20260222T120000
DTSTAMP:20260423T143722
CREATED:20260217T182015Z
LAST-MODIFIED:20260217T182310Z
UID:10003563-1771758000-1771761600@parkwayassembly.com
SUMMARY:Morning Worship
DESCRIPTION:
URL:https://parkwayassembly.com/event/morning-worship-3-2/2026-02-22/
LOCATION:Parkway Assembly\, 5191 Eisenhower Parkway\, Macon\, GA\, 31206\, United States
END:VEVENT
BEGIN:VEVENT
DTSTART;TZID=America/New_York:20260222T140000
DTEND;TZID=America/New_York:20260222T180000
DTSTAMP:20260423T143722
CREATED:20260217T183617Z
LAST-MODIFIED:20260217T183617Z
UID:10004413-1771768800-1771783200@parkwayassembly.com
SUMMARY:Workday
DESCRIPTION:
URL:https://parkwayassembly.com/event/workday/
LOCATION:Parkway Assembly\, 5191 Eisenhower Parkway\, Macon\, GA\, 31206\, United States
END:VEVENT
BEGIN:VEVENT
DTSTART;TZID=America/New_York:20260225T190000
DTEND;TZID=America/New_York:20260225T200000
DTSTAMP:20260423T143722
CREATED:20260217T183423Z
LAST-MODIFIED:20260217T183457Z
UID:10004153-1772046000-1772049600@parkwayassembly.com
SUMMARY:Growth Groups and Parkway Kids
DESCRIPTION:
URL:https://parkwayassembly.com/event/growth-groups-and-parkway-kids/2026-02-25/
LOCATION:GA
END:VEVENT
END:VCALENDAR