BEGIN:VCALENDAR
VERSION:2.0
PRODID:-//Parkway Assembly - ECPv6.15.20//NONSGML v1.0//EN
CALSCALE:GREGORIAN
METHOD:PUBLISH
X-WR-CALNAME:Parkway Assembly
X-ORIGINAL-URL:https://parkwayassembly.com
X-WR-CALDESC:Events for Parkway Assembly
REFRESH-INTERVAL;VALUE=DURATION:PT1H
X-Robots-Tag:noindex
X-PUBLISHED-TTL:PT1H
BEGIN:VTIMEZONE
TZID:America/New_York
BEGIN:DAYLIGHT
TZOFFSETFROM:-0500
TZOFFSETTO:-0400
TZNAME:EDT
DTSTART:20240310T070000
END:DAYLIGHT
BEGIN:STANDARD
TZOFFSETFROM:-0400
TZOFFSETTO:-0500
TZNAME:EST
DTSTART:20241103T060000
END:STANDARD
BEGIN:DAYLIGHT
TZOFFSETFROM:-0500
TZOFFSETTO:-0400
TZNAME:EDT
DTSTART:20250309T070000
END:DAYLIGHT
BEGIN:STANDARD
TZOFFSETFROM:-0400
TZOFFSETTO:-0500
TZNAME:EST
DTSTART:20251102T060000
END:STANDARD
BEGIN:DAYLIGHT
TZOFFSETFROM:-0500
TZOFFSETTO:-0400
TZNAME:EDT
DTSTART:20260308T070000
END:DAYLIGHT
BEGIN:STANDARD
TZOFFSETFROM:-0400
TZOFFSETTO:-0500
TZNAME:EST
DTSTART:20261101T060000
END:STANDARD
END:VTIMEZONE
BEGIN:VEVENT
DTSTART;TZID=America/New_York:20250503T130000
DTEND;TZID=America/New_York:20250503T153000
DTSTAMP:20260424T021357
CREATED:20250115T133751Z
LAST-MODIFIED:20250710T205022Z
UID:10002174-1746277200-1746286200@parkwayassembly.com
SUMMARY:Pickleball
DESCRIPTION:Saturday at 1:00PM – 3:30PM in the Gym.
URL:https://parkwayassembly.com/event/pickleball-4-2/2025-05-03/
LOCATION:Parkway Assembly Gym\, 5191 Eisenhower Parkway\, Macon\, GA\, 31206\, United States
END:VEVENT
BEGIN:VEVENT
DTSTART;TZID=America/New_York:20250504T100000
DTEND;TZID=America/New_York:20250504T104500
DTSTAMP:20260424T021357
CREATED:20260217T182418Z
LAST-MODIFIED:20260217T182418Z
UID:10003841-1746352800-1746355500@parkwayassembly.com
SUMMARY:Sunday School
DESCRIPTION:
URL:https://parkwayassembly.com/event/sunday-school-3/2025-05-04/
LOCATION:Parkway Assembly\, 5191 Eisenhower Parkway\, Macon\, GA\, 31206\, United States
END:VEVENT
BEGIN:VEVENT
DTSTART;TZID=America/New_York:20250504T110000
DTEND;TZID=America/New_York:20250504T120000
DTSTAMP:20260424T021357
CREATED:20241206T194021Z
LAST-MODIFIED:20241206T194021Z
UID:10001851-1746356400-1746360000@parkwayassembly.com
SUMMARY:Morning Worship
DESCRIPTION:
URL:https://parkwayassembly.com/event/morning-worship-2/2025-05-04/
LOCATION:Parkway Assembly\, 5191 Eisenhower Parkway\, Macon\, GA\, 31206\, United States
END:VEVENT
BEGIN:VEVENT
DTSTART;TZID=America/New_York:20250504T110000
DTEND;TZID=America/New_York:20250504T120000
DTSTAMP:20260424T021357
CREATED:20250411T155602Z
LAST-MODIFIED:20250411T155602Z
UID:10002672-1746356400-1746360000@parkwayassembly.com
SUMMARY:Baptism Sunday
DESCRIPTION:Sign up in the lobby if you are interested in taking this next step in your faith journey
URL:https://parkwayassembly.com/event/baptism-sunday-2/
LOCATION:Parkway Assembly\, 5191 Eisenhower Parkway\, Macon\, GA\, 31206\, United States
END:VEVENT
BEGIN:VEVENT
DTSTART;TZID=America/New_York:20250505T180000
DTEND;TZID=America/New_York:20250505T203000
DTSTAMP:20260424T021357
CREATED:20241211T145237Z
LAST-MODIFIED:20250909T112705Z
UID:10001967-1746468000-1746477000@parkwayassembly.com
SUMMARY:Pickleball
DESCRIPTION:Monday at 6:00PM – 8:30PM in the Gym.
URL:https://parkwayassembly.com/event/pickleball-3/2025-05-05/
LOCATION:Parkway Assembly Gym\, 5191 Eisenhower Parkway\, Macon\, GA\, 31206\, United States
END:VEVENT
BEGIN:VEVENT
DTSTART;TZID=America/New_York:20250507T190000
DTEND;TZID=America/New_York:20250507T200000
DTSTAMP:20260424T021357
CREATED:20241206T194241Z
LAST-MODIFIED:20250904T154802Z
UID:10001906-1746644400-1746648000@parkwayassembly.com
SUMMARY:Growth Groups and Parkway Kids
DESCRIPTION:
URL:https://parkwayassembly.com/event/discipleship-groups-royal-rangers-and-mpact-girls-3/2025-05-07/
LOCATION:Parkway Assembly\, 5191 Eisenhower Parkway\, Macon\, GA\, 31206\, United States
END:VEVENT
BEGIN:VEVENT
DTSTART;TZID=America/New_York:20250510T130000
DTEND;TZID=America/New_York:20250510T153000
DTSTAMP:20260424T021357
CREATED:20250115T133751Z
LAST-MODIFIED:20250710T205022Z
UID:10002175-1746882000-1746891000@parkwayassembly.com
SUMMARY:Pickleball
DESCRIPTION:Saturday at 1:00PM – 3:30PM in the Gym.
URL:https://parkwayassembly.com/event/pickleball-4-2/2025-05-10/
LOCATION:Parkway Assembly Gym\, 5191 Eisenhower Parkway\, Macon\, GA\, 31206\, United States
END:VEVENT
BEGIN:VEVENT
DTSTART;TZID=America/New_York:20250511T100000
DTEND;TZID=America/New_York:20250511T104500
DTSTAMP:20260424T021357
CREATED:20260217T182418Z
LAST-MODIFIED:20260217T182418Z
UID:10003842-1746957600-1746960300@parkwayassembly.com
SUMMARY:Sunday School
DESCRIPTION:
URL:https://parkwayassembly.com/event/sunday-school-3/2025-05-11/
LOCATION:Parkway Assembly\, 5191 Eisenhower Parkway\, Macon\, GA\, 31206\, United States
END:VEVENT
BEGIN:VEVENT
DTSTART;TZID=America/New_York:20250511T110000
DTEND;TZID=America/New_York:20250511T120000
DTSTAMP:20260424T021357
CREATED:20241206T194021Z
LAST-MODIFIED:20241206T194021Z
UID:10001852-1746961200-1746964800@parkwayassembly.com
SUMMARY:Morning Worship
DESCRIPTION:
URL:https://parkwayassembly.com/event/morning-worship-2/2025-05-11/
LOCATION:Parkway Assembly\, 5191 Eisenhower Parkway\, Macon\, GA\, 31206\, United States
END:VEVENT
BEGIN:VEVENT
DTSTART;TZID=America/New_York:20250511T110000
DTEND;TZID=America/New_York:20250511T120000
DTSTAMP:20260424T021357
CREATED:20250502T181927Z
LAST-MODIFIED:20250502T181927Z
UID:10002674-1746961200-1746964800@parkwayassembly.com
SUMMARY:Mother's Day
DESCRIPTION:We want to celebrate our Parkway Moms so come next Sunday to receive a small gift to show our appreciation for everything you do!
URL:https://parkwayassembly.com/event/mothers-day/
LOCATION:Parkway Assembly\, 5191 Eisenhower Parkway\, Macon\, GA\, 31206\, United States
END:VEVENT
BEGIN:VEVENT
DTSTART;TZID=America/New_York:20250512T180000
DTEND;TZID=America/New_York:20250512T203000
DTSTAMP:20260424T021357
CREATED:20241211T145237Z
LAST-MODIFIED:20250909T112705Z
UID:10001968-1747072800-1747081800@parkwayassembly.com
SUMMARY:Pickleball
DESCRIPTION:Monday at 6:00PM – 8:30PM in the Gym.
URL:https://parkwayassembly.com/event/pickleball-3/2025-05-12/
LOCATION:Parkway Assembly Gym\, 5191 Eisenhower Parkway\, Macon\, GA\, 31206\, United States
END:VEVENT
BEGIN:VEVENT
DTSTART;TZID=America/New_York:20250514T190000
DTEND;TZID=America/New_York:20250514T200000
DTSTAMP:20260424T021357
CREATED:20241206T194241Z
LAST-MODIFIED:20250904T154802Z
UID:10001907-1747249200-1747252800@parkwayassembly.com
SUMMARY:Growth Groups and Parkway Kids
DESCRIPTION:
URL:https://parkwayassembly.com/event/discipleship-groups-royal-rangers-and-mpact-girls-3/2025-05-14/
LOCATION:Parkway Assembly\, 5191 Eisenhower Parkway\, Macon\, GA\, 31206\, United States
END:VEVENT
BEGIN:VEVENT
DTSTART;TZID=America/New_York:20250517T130000
DTEND;TZID=America/New_York:20250517T153000
DTSTAMP:20260424T021357
CREATED:20250115T133751Z
LAST-MODIFIED:20250710T205022Z
UID:10002176-1747486800-1747495800@parkwayassembly.com
SUMMARY:Pickleball
DESCRIPTION:Saturday at 1:00PM – 3:30PM in the Gym.
URL:https://parkwayassembly.com/event/pickleball-4-2/2025-05-17/
LOCATION:Parkway Assembly Gym\, 5191 Eisenhower Parkway\, Macon\, GA\, 31206\, United States
END:VEVENT
BEGIN:VEVENT
DTSTART;TZID=America/New_York:20250517T150000
DTEND;TZID=America/New_York:20250517T180000
DTSTAMP:20260424T021357
CREATED:20250403T190119Z
LAST-MODIFIED:20250403T190119Z
UID:10002671-1747494000-1747504800@parkwayassembly.com
SUMMARY:Parkway Pig Jig
DESCRIPTION:Come enjoy games\, barbecue\, and see who will have to kiss the pig!  Tickets are available in the lobby and all donations go to our Next Gen ministries!
URL:https://parkwayassembly.com/event/parkway-pig-jig/
LOCATION:Parkway Assembly\, 5191 Eisenhower Parkway\, Macon\, GA\, 31206\, United States
END:VEVENT
BEGIN:VEVENT
DTSTART;TZID=America/New_York:20250518T100000
DTEND;TZID=America/New_York:20250518T104500
DTSTAMP:20260424T021357
CREATED:20260217T182418Z
LAST-MODIFIED:20260217T182418Z
UID:10003843-1747562400-1747565100@parkwayassembly.com
SUMMARY:Sunday School
DESCRIPTION:
URL:https://parkwayassembly.com/event/sunday-school-3/2025-05-18/
LOCATION:Parkway Assembly\, 5191 Eisenhower Parkway\, Macon\, GA\, 31206\, United States
END:VEVENT
BEGIN:VEVENT
DTSTART;TZID=America/New_York:20250518T100000
DTEND;TZID=America/New_York:20250518T110000
DTSTAMP:20260424T021357
CREATED:20250502T182223Z
LAST-MODIFIED:20250502T182223Z
UID:10002675-1747562400-1747566000@parkwayassembly.com
SUMMARY:Coffee with the Pastors
DESCRIPTION:If you’ve recently joined our church\, we want to offer you an opportunity to connect with us!  Join our pastors in the Fellowship Hall for coffee and pastries and take some time to get to know us.
URL:https://parkwayassembly.com/event/coffee-with-the-pastors/
LOCATION:Parkway Assembly Fellowship Hall\, 5191 Eisenhower Parkway\, Macon\, GA\, 31206\, United States
END:VEVENT
BEGIN:VEVENT
DTSTART;TZID=America/New_York:20250518T110000
DTEND;TZID=America/New_York:20250518T120000
DTSTAMP:20260424T021357
CREATED:20241206T194021Z
LAST-MODIFIED:20241206T194021Z
UID:10001853-1747566000-1747569600@parkwayassembly.com
SUMMARY:Morning Worship
DESCRIPTION:
URL:https://parkwayassembly.com/event/morning-worship-2/2025-05-18/
LOCATION:Parkway Assembly\, 5191 Eisenhower Parkway\, Macon\, GA\, 31206\, United States
END:VEVENT
BEGIN:VEVENT
DTSTART;TZID=America/New_York:20250519T180000
DTEND;TZID=America/New_York:20250519T203000
DTSTAMP:20260424T021357
CREATED:20241211T145237Z
LAST-MODIFIED:20250909T112705Z
UID:10001969-1747677600-1747686600@parkwayassembly.com
SUMMARY:Pickleball
DESCRIPTION:Monday at 6:00PM – 8:30PM in the Gym.
URL:https://parkwayassembly.com/event/pickleball-3/2025-05-19/
LOCATION:Parkway Assembly Gym\, 5191 Eisenhower Parkway\, Macon\, GA\, 31206\, United States
END:VEVENT
BEGIN:VEVENT
DTSTART;TZID=America/New_York:20250521T190000
DTEND;TZID=America/New_York:20250521T200000
DTSTAMP:20260424T021357
CREATED:20241206T194241Z
LAST-MODIFIED:20250904T154802Z
UID:10001908-1747854000-1747857600@parkwayassembly.com
SUMMARY:Growth Groups and Parkway Kids
DESCRIPTION:
URL:https://parkwayassembly.com/event/discipleship-groups-royal-rangers-and-mpact-girls-3/2025-05-21/
LOCATION:Parkway Assembly\, 5191 Eisenhower Parkway\, Macon\, GA\, 31206\, United States
END:VEVENT
BEGIN:VEVENT
DTSTART;TZID=America/New_York:20250524T130000
DTEND;TZID=America/New_York:20250524T153000
DTSTAMP:20260424T021357
CREATED:20250115T133751Z
LAST-MODIFIED:20250710T205022Z
UID:10002177-1748091600-1748100600@parkwayassembly.com
SUMMARY:Pickleball
DESCRIPTION:Saturday at 1:00PM – 3:30PM in the Gym.
URL:https://parkwayassembly.com/event/pickleball-4-2/2025-05-24/
LOCATION:Parkway Assembly Gym\, 5191 Eisenhower Parkway\, Macon\, GA\, 31206\, United States
END:VEVENT
BEGIN:VEVENT
DTSTART;TZID=America/New_York:20250525T100000
DTEND;TZID=America/New_York:20250525T104500
DTSTAMP:20260424T021357
CREATED:20260217T182418Z
LAST-MODIFIED:20260217T182418Z
UID:10003844-1748167200-1748169900@parkwayassembly.com
SUMMARY:Sunday School
DESCRIPTION:
URL:https://parkwayassembly.com/event/sunday-school-3/2025-05-25/
LOCATION:Parkway Assembly\, 5191 Eisenhower Parkway\, Macon\, GA\, 31206\, United States
END:VEVENT
BEGIN:VEVENT
DTSTART;TZID=America/New_York:20250525T110000
DTEND;TZID=America/New_York:20250525T120000
DTSTAMP:20260424T021357
CREATED:20241206T194021Z
LAST-MODIFIED:20241206T194021Z
UID:10001854-1748170800-1748174400@parkwayassembly.com
SUMMARY:Morning Worship
DESCRIPTION:
URL:https://parkwayassembly.com/event/morning-worship-2/2025-05-25/
LOCATION:Parkway Assembly\, 5191 Eisenhower Parkway\, Macon\, GA\, 31206\, United States
END:VEVENT
BEGIN:VEVENT
DTSTART;TZID=America/New_York:20250526T180000
DTEND;TZID=America/New_York:20250526T203000
DTSTAMP:20260424T021357
CREATED:20241211T145237Z
LAST-MODIFIED:20250909T112705Z
UID:10001970-1748282400-1748291400@parkwayassembly.com
SUMMARY:Pickleball
DESCRIPTION:Monday at 6:00PM – 8:30PM in the Gym.
URL:https://parkwayassembly.com/event/pickleball-3/2025-05-26/
LOCATION:Parkway Assembly Gym\, 5191 Eisenhower Parkway\, Macon\, GA\, 31206\, United States
END:VEVENT
BEGIN:VEVENT
DTSTART;TZID=America/New_York:20250528T190000
DTEND;TZID=America/New_York:20250528T200000
DTSTAMP:20260424T021357
CREATED:20241206T194241Z
LAST-MODIFIED:20250904T154802Z
UID:10001909-1748458800-1748462400@parkwayassembly.com
SUMMARY:Growth Groups and Parkway Kids
DESCRIPTION:
URL:https://parkwayassembly.com/event/discipleship-groups-royal-rangers-and-mpact-girls-3/2025-05-28/
LOCATION:Parkway Assembly\, 5191 Eisenhower Parkway\, Macon\, GA\, 31206\, United States
END:VEVENT
BEGIN:VEVENT
DTSTART;TZID=America/New_York:20250530T200000
DTEND;TZID=America/New_York:20250531T080000
DTSTAMP:20260424T021357
CREATED:20250517T124828Z
LAST-MODIFIED:20250517T124828Z
UID:10003044-1748635200-1748678400@parkwayassembly.com
SUMMARY:Parkway Youth End of School Lock-In
DESCRIPTION:Games\, Food & Fun all night long!  See Pastor Emily for more details.
URL:https://parkwayassembly.com/event/parkway-youth-end-of-school-lock-in/
LOCATION:Parkway Assembly\, 5191 Eisenhower Parkway\, Macon\, GA\, 31206\, United States
END:VEVENT
BEGIN:VEVENT
DTSTART;TZID=America/New_York:20250531T130000
DTEND;TZID=America/New_York:20250531T153000
DTSTAMP:20260424T021357
CREATED:20250115T133751Z
LAST-MODIFIED:20250710T205022Z
UID:10002178-1748696400-1748705400@parkwayassembly.com
SUMMARY:Pickleball
DESCRIPTION:Saturday at 1:00PM – 3:30PM in the Gym.
URL:https://parkwayassembly.com/event/pickleball-4-2/2025-05-31/
LOCATION:Parkway Assembly Gym\, 5191 Eisenhower Parkway\, Macon\, GA\, 31206\, United States
END:VEVENT
END:VCALENDAR