BEGIN:VCALENDAR
VERSION:2.0
PRODID:-//Parkway Assembly - ECPv6.15.20//NONSGML v1.0//EN
CALSCALE:GREGORIAN
METHOD:PUBLISH
X-ORIGINAL-URL:https://parkwayassembly.com
X-WR-CALDESC:Events for Parkway Assembly
REFRESH-INTERVAL;VALUE=DURATION:PT1H
X-Robots-Tag:noindex
X-PUBLISHED-TTL:PT1H
BEGIN:VTIMEZONE
TZID:America/New_York
BEGIN:DAYLIGHT
TZOFFSETFROM:-0500
TZOFFSETTO:-0400
TZNAME:EDT
DTSTART:20240310T070000
END:DAYLIGHT
BEGIN:STANDARD
TZOFFSETFROM:-0400
TZOFFSETTO:-0500
TZNAME:EST
DTSTART:20241103T060000
END:STANDARD
BEGIN:DAYLIGHT
TZOFFSETFROM:-0500
TZOFFSETTO:-0400
TZNAME:EDT
DTSTART:20250309T070000
END:DAYLIGHT
BEGIN:STANDARD
TZOFFSETFROM:-0400
TZOFFSETTO:-0500
TZNAME:EST
DTSTART:20251102T060000
END:STANDARD
BEGIN:DAYLIGHT
TZOFFSETFROM:-0500
TZOFFSETTO:-0400
TZNAME:EDT
DTSTART:20260308T070000
END:DAYLIGHT
BEGIN:STANDARD
TZOFFSETFROM:-0400
TZOFFSETTO:-0500
TZNAME:EST
DTSTART:20261101T060000
END:STANDARD
END:VTIMEZONE
BEGIN:VEVENT
DTSTART;VALUE=DATE:20250401
DTEND;VALUE=DATE:20250402
DTSTAMP:20260424T032525
CREATED:20250224T135818Z
LAST-MODIFIED:20250224T140017Z
UID:10002255-1743465600-1743551999@parkwayassembly.com
SUMMARY:40 Day Prayer and Fast
DESCRIPTION:Starting March 5th\, join us as together we try to grow closer to the Lord.  The church will be open for prayer Tuesdays 10-12am and Th
URL:https://parkwayassembly.com/event/40-day-prayer-and-fast/2025-04-01/
LOCATION:Parkway Assembly\, 5191 Eisenhower Parkway\, Macon\, GA\, 31206\, United States
END:VEVENT
BEGIN:VEVENT
DTSTART;TZID=America/New_York:20250401T100000
DTEND;TZID=America/New_York:20250401T110000
DTSTAMP:20260424T032525
CREATED:20250306T220332Z
LAST-MODIFIED:20250322T142444Z
UID:10002657-1743501600-1743505200@parkwayassembly.com
SUMMARY:Prayer Meeting
DESCRIPTION:
URL:https://parkwayassembly.com/event/prayer-meeting-4/
LOCATION:Parkway Assembly\, 5191 Eisenhower Parkway\, Macon\, GA\, 31206\, United States
END:VEVENT
BEGIN:VEVENT
DTSTART;VALUE=DATE:20250402
DTEND;VALUE=DATE:20250403
DTSTAMP:20260424T032525
CREATED:20250224T135818Z
LAST-MODIFIED:20250224T140017Z
UID:10002256-1743552000-1743638399@parkwayassembly.com
SUMMARY:40 Day Prayer and Fast
DESCRIPTION:Starting March 5th\, join us as together we try to grow closer to the Lord.  The church will be open for prayer Tuesdays 10-12am and Th
URL:https://parkwayassembly.com/event/40-day-prayer-and-fast/2025-04-02/
LOCATION:Parkway Assembly\, 5191 Eisenhower Parkway\, Macon\, GA\, 31206\, United States
END:VEVENT
BEGIN:VEVENT
DTSTART;TZID=America/New_York:20250402T190000
DTEND;TZID=America/New_York:20250402T200000
DTSTAMP:20260424T032525
CREATED:20241206T194241Z
LAST-MODIFIED:20250904T154802Z
UID:10001901-1743620400-1743624000@parkwayassembly.com
SUMMARY:Growth Groups and Parkway Kids
DESCRIPTION:
URL:https://parkwayassembly.com/event/discipleship-groups-royal-rangers-and-mpact-girls-3/2025-04-02/
LOCATION:Parkway Assembly\, 5191 Eisenhower Parkway\, Macon\, GA\, 31206\, United States
END:VEVENT
BEGIN:VEVENT
DTSTART;VALUE=DATE:20250403
DTEND;VALUE=DATE:20250404
DTSTAMP:20260424T032525
CREATED:20250224T135818Z
LAST-MODIFIED:20250224T140017Z
UID:10002257-1743638400-1743724799@parkwayassembly.com
SUMMARY:40 Day Prayer and Fast
DESCRIPTION:Starting March 5th\, join us as together we try to grow closer to the Lord.  The church will be open for prayer Tuesdays 10-12am and Th
URL:https://parkwayassembly.com/event/40-day-prayer-and-fast/2025-04-03/
LOCATION:Parkway Assembly\, 5191 Eisenhower Parkway\, Macon\, GA\, 31206\, United States
END:VEVENT
BEGIN:VEVENT
DTSTART;VALUE=DATE:20250404
DTEND;VALUE=DATE:20250405
DTSTAMP:20260424T032525
CREATED:20250224T135818Z
LAST-MODIFIED:20250224T140017Z
UID:10002258-1743724800-1743811199@parkwayassembly.com
SUMMARY:40 Day Prayer and Fast
DESCRIPTION:Starting March 5th\, join us as together we try to grow closer to the Lord.  The church will be open for prayer Tuesdays 10-12am and Th
URL:https://parkwayassembly.com/event/40-day-prayer-and-fast/2025-04-04/
LOCATION:Parkway Assembly\, 5191 Eisenhower Parkway\, Macon\, GA\, 31206\, United States
END:VEVENT
BEGIN:VEVENT
DTSTART;VALUE=DATE:20250405
DTEND;VALUE=DATE:20250406
DTSTAMP:20260424T032525
CREATED:20250224T135818Z
LAST-MODIFIED:20250224T140017Z
UID:10002259-1743811200-1743897599@parkwayassembly.com
SUMMARY:40 Day Prayer and Fast
DESCRIPTION:Starting March 5th\, join us as together we try to grow closer to the Lord.  The church will be open for prayer Tuesdays 10-12am and Th
URL:https://parkwayassembly.com/event/40-day-prayer-and-fast/2025-04-05/
LOCATION:Parkway Assembly\, 5191 Eisenhower Parkway\, Macon\, GA\, 31206\, United States
END:VEVENT
BEGIN:VEVENT
DTSTART;TZID=America/New_York:20250405T130000
DTEND;TZID=America/New_York:20250405T153000
DTSTAMP:20260424T032525
CREATED:20250115T133751Z
LAST-MODIFIED:20250710T205022Z
UID:10002170-1743858000-1743867000@parkwayassembly.com
SUMMARY:Pickleball
DESCRIPTION:Saturday at 1:00PM – 3:30PM in the Gym.
URL:https://parkwayassembly.com/event/pickleball-4-2/2025-04-05/
LOCATION:Parkway Assembly Gym\, 5191 Eisenhower Parkway\, Macon\, GA\, 31206\, United States
END:VEVENT
BEGIN:VEVENT
DTSTART;VALUE=DATE:20250406
DTEND;VALUE=DATE:20250407
DTSTAMP:20260424T032525
CREATED:20250224T135818Z
LAST-MODIFIED:20250224T140017Z
UID:10002260-1743897600-1743983999@parkwayassembly.com
SUMMARY:40 Day Prayer and Fast
DESCRIPTION:Starting March 5th\, join us as together we try to grow closer to the Lord.  The church will be open for prayer Tuesdays 10-12am and Th
URL:https://parkwayassembly.com/event/40-day-prayer-and-fast/2025-04-06/
LOCATION:Parkway Assembly\, 5191 Eisenhower Parkway\, Macon\, GA\, 31206\, United States
END:VEVENT
BEGIN:VEVENT
DTSTART;TZID=America/New_York:20250406T100000
DTEND;TZID=America/New_York:20250406T104500
DTSTAMP:20260424T032525
CREATED:20250326T201743Z
LAST-MODIFIED:20250326T201743Z
UID:10002669-1743933600-1743936300@parkwayassembly.com
SUMMARY:Welcome Team Training
DESCRIPTION:
URL:https://parkwayassembly.com/event/welcome-team-training/
LOCATION:Parkway Assembly\, 5191 Eisenhower Parkway\, Macon\, GA\, 31206\, United States
END:VEVENT
BEGIN:VEVENT
DTSTART;TZID=America/New_York:20250406T100000
DTEND;TZID=America/New_York:20250406T104500
DTSTAMP:20260424T032525
CREATED:20260217T182418Z
LAST-MODIFIED:20260217T182418Z
UID:10003837-1743933600-1743936300@parkwayassembly.com
SUMMARY:Sunday School
DESCRIPTION:
URL:https://parkwayassembly.com/event/sunday-school-3/2025-04-06/
LOCATION:Parkway Assembly\, 5191 Eisenhower Parkway\, Macon\, GA\, 31206\, United States
END:VEVENT
BEGIN:VEVENT
DTSTART;TZID=America/New_York:20250406T110000
DTEND;TZID=America/New_York:20250406T120000
DTSTAMP:20260424T032525
CREATED:20241206T194021Z
LAST-MODIFIED:20241206T194021Z
UID:10001847-1743937200-1743940800@parkwayassembly.com
SUMMARY:Morning Worship
DESCRIPTION:
URL:https://parkwayassembly.com/event/morning-worship-2/2025-04-06/
LOCATION:Parkway Assembly\, 5191 Eisenhower Parkway\, Macon\, GA\, 31206\, United States
END:VEVENT
BEGIN:VEVENT
DTSTART;VALUE=DATE:20250407
DTEND;VALUE=DATE:20250408
DTSTAMP:20260424T032525
CREATED:20250224T135818Z
LAST-MODIFIED:20250224T140017Z
UID:10002261-1743984000-1744070399@parkwayassembly.com
SUMMARY:40 Day Prayer and Fast
DESCRIPTION:Starting March 5th\, join us as together we try to grow closer to the Lord.  The church will be open for prayer Tuesdays 10-12am and Th
URL:https://parkwayassembly.com/event/40-day-prayer-and-fast/2025-04-07/
LOCATION:Parkway Assembly\, 5191 Eisenhower Parkway\, Macon\, GA\, 31206\, United States
END:VEVENT
BEGIN:VEVENT
DTSTART;TZID=America/New_York:20250407T180000
DTEND;TZID=America/New_York:20250407T203000
DTSTAMP:20260424T032525
CREATED:20241211T145237Z
LAST-MODIFIED:20250909T112705Z
UID:10001963-1744048800-1744057800@parkwayassembly.com
SUMMARY:Pickleball
DESCRIPTION:Monday at 6:00PM – 8:30PM in the Gym.
URL:https://parkwayassembly.com/event/pickleball-3/2025-04-07/
LOCATION:Parkway Assembly Gym\, 5191 Eisenhower Parkway\, Macon\, GA\, 31206\, United States
END:VEVENT
BEGIN:VEVENT
DTSTART;VALUE=DATE:20250408
DTEND;VALUE=DATE:20250409
DTSTAMP:20260424T032525
CREATED:20250224T135818Z
LAST-MODIFIED:20250224T140017Z
UID:10002262-1744070400-1744156799@parkwayassembly.com
SUMMARY:40 Day Prayer and Fast
DESCRIPTION:Starting March 5th\, join us as together we try to grow closer to the Lord.  The church will be open for prayer Tuesdays 10-12am and Th
URL:https://parkwayassembly.com/event/40-day-prayer-and-fast/2025-04-08/
LOCATION:Parkway Assembly\, 5191 Eisenhower Parkway\, Macon\, GA\, 31206\, United States
END:VEVENT
BEGIN:VEVENT
DTSTART;TZID=America/New_York:20250408T100000
DTEND;TZID=America/New_York:20250408T110000
DTSTAMP:20260424T032525
CREATED:20250306T220423Z
LAST-MODIFIED:20250322T142539Z
UID:10002658-1744106400-1744110000@parkwayassembly.com
SUMMARY:Prayer Meeting
DESCRIPTION:
URL:https://parkwayassembly.com/event/prayer-meeting-5/
LOCATION:Parkway Assembly\, 5191 Eisenhower Parkway\, Macon\, GA\, 31206\, United States
END:VEVENT
BEGIN:VEVENT
DTSTART;VALUE=DATE:20250409
DTEND;VALUE=DATE:20250410
DTSTAMP:20260424T032525
CREATED:20250224T135818Z
LAST-MODIFIED:20250224T140017Z
UID:10002263-1744156800-1744243199@parkwayassembly.com
SUMMARY:40 Day Prayer and Fast
DESCRIPTION:Starting March 5th\, join us as together we try to grow closer to the Lord.  The church will be open for prayer Tuesdays 10-12am and Th
URL:https://parkwayassembly.com/event/40-day-prayer-and-fast/2025-04-09/
LOCATION:Parkway Assembly\, 5191 Eisenhower Parkway\, Macon\, GA\, 31206\, United States
END:VEVENT
BEGIN:VEVENT
DTSTART;TZID=America/New_York:20250409T190000
DTEND;TZID=America/New_York:20250409T200000
DTSTAMP:20260424T032525
CREATED:20241206T194241Z
LAST-MODIFIED:20250904T154802Z
UID:10001902-1744225200-1744228800@parkwayassembly.com
SUMMARY:Growth Groups and Parkway Kids
DESCRIPTION:
URL:https://parkwayassembly.com/event/discipleship-groups-royal-rangers-and-mpact-girls-3/2025-04-09/
LOCATION:Parkway Assembly\, 5191 Eisenhower Parkway\, Macon\, GA\, 31206\, United States
END:VEVENT
BEGIN:VEVENT
DTSTART;VALUE=DATE:20250410
DTEND;VALUE=DATE:20250411
DTSTAMP:20260424T032525
CREATED:20250224T135818Z
LAST-MODIFIED:20250224T140017Z
UID:10002264-1744243200-1744329599@parkwayassembly.com
SUMMARY:40 Day Prayer and Fast
DESCRIPTION:Starting March 5th\, join us as together we try to grow closer to the Lord.  The church will be open for prayer Tuesdays 10-12am and Th
URL:https://parkwayassembly.com/event/40-day-prayer-and-fast/2025-04-10/
LOCATION:Parkway Assembly\, 5191 Eisenhower Parkway\, Macon\, GA\, 31206\, United States
END:VEVENT
BEGIN:VEVENT
DTSTART;VALUE=DATE:20250411
DTEND;VALUE=DATE:20250412
DTSTAMP:20260424T032525
CREATED:20250224T135818Z
LAST-MODIFIED:20250224T140017Z
UID:10002265-1744329600-1744415999@parkwayassembly.com
SUMMARY:40 Day Prayer and Fast
DESCRIPTION:Starting March 5th\, join us as together we try to grow closer to the Lord.  The church will be open for prayer Tuesdays 10-12am and Th
URL:https://parkwayassembly.com/event/40-day-prayer-and-fast/2025-04-11/
LOCATION:Parkway Assembly\, 5191 Eisenhower Parkway\, Macon\, GA\, 31206\, United States
END:VEVENT
BEGIN:VEVENT
DTSTART;VALUE=DATE:20250412
DTEND;VALUE=DATE:20250413
DTSTAMP:20260424T032525
CREATED:20250224T135818Z
LAST-MODIFIED:20250224T140017Z
UID:10002266-1744416000-1744502399@parkwayassembly.com
SUMMARY:40 Day Prayer and Fast
DESCRIPTION:Starting March 5th\, join us as together we try to grow closer to the Lord.  The church will be open for prayer Tuesdays 10-12am and Th
URL:https://parkwayassembly.com/event/40-day-prayer-and-fast/2025-04-12/
LOCATION:Parkway Assembly\, 5191 Eisenhower Parkway\, Macon\, GA\, 31206\, United States
END:VEVENT
BEGIN:VEVENT
DTSTART;TZID=America/New_York:20250412T103000
DTEND;TZID=America/New_York:20250412T130000
DTSTAMP:20260424T032525
CREATED:20250306T215643Z
LAST-MODIFIED:20250306T215643Z
UID:10002650-1744453800-1744462800@parkwayassembly.com
SUMMARY:Easter Egg Hunt
DESCRIPTION:
URL:https://parkwayassembly.com/event/easter-egg-hunt-2/
LOCATION:Parkway Assembly\, 5191 Eisenhower Parkway\, Macon\, GA\, 31206\, United States
END:VEVENT
BEGIN:VEVENT
DTSTART;TZID=America/New_York:20250412T130000
DTEND;TZID=America/New_York:20250412T153000
DTSTAMP:20260424T032525
CREATED:20250115T133751Z
LAST-MODIFIED:20250710T205022Z
UID:10002171-1744462800-1744471800@parkwayassembly.com
SUMMARY:Pickleball
DESCRIPTION:Saturday at 1:00PM – 3:30PM in the Gym.
URL:https://parkwayassembly.com/event/pickleball-4-2/2025-04-12/
LOCATION:Parkway Assembly Gym\, 5191 Eisenhower Parkway\, Macon\, GA\, 31206\, United States
END:VEVENT
BEGIN:VEVENT
DTSTART;VALUE=DATE:20250413
DTEND;VALUE=DATE:20250414
DTSTAMP:20260424T032525
CREATED:20250224T135818Z
LAST-MODIFIED:20250224T140017Z
UID:10002267-1744502400-1744588799@parkwayassembly.com
SUMMARY:40 Day Prayer and Fast
DESCRIPTION:Starting March 5th\, join us as together we try to grow closer to the Lord.  The church will be open for prayer Tuesdays 10-12am and Th
URL:https://parkwayassembly.com/event/40-day-prayer-and-fast/2025-04-13/
LOCATION:Parkway Assembly\, 5191 Eisenhower Parkway\, Macon\, GA\, 31206\, United States
END:VEVENT
BEGIN:VEVENT
DTSTART;TZID=America/New_York:20250413T100000
DTEND;TZID=America/New_York:20250413T104500
DTSTAMP:20260424T032525
CREATED:20260217T182418Z
LAST-MODIFIED:20260217T182418Z
UID:10003838-1744538400-1744541100@parkwayassembly.com
SUMMARY:Sunday School
DESCRIPTION:
URL:https://parkwayassembly.com/event/sunday-school-3/2025-04-13/
LOCATION:Parkway Assembly\, 5191 Eisenhower Parkway\, Macon\, GA\, 31206\, United States
END:VEVENT
BEGIN:VEVENT
DTSTART;TZID=America/New_York:20250413T110000
DTEND;TZID=America/New_York:20250413T120000
DTSTAMP:20260424T032525
CREATED:20241206T194021Z
LAST-MODIFIED:20241206T194021Z
UID:10001848-1744542000-1744545600@parkwayassembly.com
SUMMARY:Morning Worship
DESCRIPTION:
URL:https://parkwayassembly.com/event/morning-worship-2/2025-04-13/
LOCATION:Parkway Assembly\, 5191 Eisenhower Parkway\, Macon\, GA\, 31206\, United States
END:VEVENT
BEGIN:VEVENT
DTSTART;VALUE=DATE:20250414
DTEND;VALUE=DATE:20250415
DTSTAMP:20260424T032525
CREATED:20250224T135818Z
LAST-MODIFIED:20250224T140017Z
UID:10002268-1744588800-1744675199@parkwayassembly.com
SUMMARY:40 Day Prayer and Fast
DESCRIPTION:Starting March 5th\, join us as together we try to grow closer to the Lord.  The church will be open for prayer Tuesdays 10-12am and Th
URL:https://parkwayassembly.com/event/40-day-prayer-and-fast/2025-04-14/
LOCATION:Parkway Assembly\, 5191 Eisenhower Parkway\, Macon\, GA\, 31206\, United States
END:VEVENT
BEGIN:VEVENT
DTSTART;TZID=America/New_York:20250414T180000
DTEND;TZID=America/New_York:20250414T203000
DTSTAMP:20260424T032525
CREATED:20241211T145237Z
LAST-MODIFIED:20250909T112705Z
UID:10001964-1744653600-1744662600@parkwayassembly.com
SUMMARY:Pickleball
DESCRIPTION:Monday at 6:00PM – 8:30PM in the Gym.
URL:https://parkwayassembly.com/event/pickleball-3/2025-04-14/
LOCATION:Parkway Assembly Gym\, 5191 Eisenhower Parkway\, Macon\, GA\, 31206\, United States
END:VEVENT
BEGIN:VEVENT
DTSTART;TZID=America/New_York:20250415T100000
DTEND;TZID=America/New_York:20250415T110000
DTSTAMP:20260424T032525
CREATED:20250306T220450Z
LAST-MODIFIED:20250322T142619Z
UID:10002659-1744711200-1744714800@parkwayassembly.com
SUMMARY:Prayer Meeting
DESCRIPTION:
URL:https://parkwayassembly.com/event/prayer-meeting-6/
LOCATION:Parkway Assembly\, 5191 Eisenhower Parkway\, Macon\, GA\, 31206\, United States
END:VEVENT
BEGIN:VEVENT
DTSTART;TZID=America/New_York:20250416T190000
DTEND;TZID=America/New_York:20250416T200000
DTSTAMP:20260424T032525
CREATED:20241206T194241Z
LAST-MODIFIED:20250904T154802Z
UID:10001903-1744830000-1744833600@parkwayassembly.com
SUMMARY:Growth Groups and Parkway Kids
DESCRIPTION:
URL:https://parkwayassembly.com/event/discipleship-groups-royal-rangers-and-mpact-girls-3/2025-04-16/
LOCATION:Parkway Assembly\, 5191 Eisenhower Parkway\, Macon\, GA\, 31206\, United States
END:VEVENT
END:VCALENDAR