BEGIN:VCALENDAR
VERSION:2.0
PRODID:-//Parkway Assembly - ECPv6.15.20//NONSGML v1.0//EN
CALSCALE:GREGORIAN
METHOD:PUBLISH
X-ORIGINAL-URL:https://parkwayassembly.com
X-WR-CALDESC:Events for Parkway Assembly
REFRESH-INTERVAL;VALUE=DURATION:PT1H
X-Robots-Tag:noindex
X-PUBLISHED-TTL:PT1H
BEGIN:VTIMEZONE
TZID:America/New_York
BEGIN:DAYLIGHT
TZOFFSETFROM:-0500
TZOFFSETTO:-0400
TZNAME:EDT
DTSTART:20240310T070000
END:DAYLIGHT
BEGIN:STANDARD
TZOFFSETFROM:-0400
TZOFFSETTO:-0500
TZNAME:EST
DTSTART:20241103T060000
END:STANDARD
BEGIN:DAYLIGHT
TZOFFSETFROM:-0500
TZOFFSETTO:-0400
TZNAME:EDT
DTSTART:20250309T070000
END:DAYLIGHT
BEGIN:STANDARD
TZOFFSETFROM:-0400
TZOFFSETTO:-0500
TZNAME:EST
DTSTART:20251102T060000
END:STANDARD
BEGIN:DAYLIGHT
TZOFFSETFROM:-0500
TZOFFSETTO:-0400
TZNAME:EDT
DTSTART:20260308T070000
END:DAYLIGHT
BEGIN:STANDARD
TZOFFSETFROM:-0400
TZOFFSETTO:-0500
TZNAME:EST
DTSTART:20261101T060000
END:STANDARD
END:VTIMEZONE
BEGIN:VEVENT
DTSTART;TZID=America/New_York:20250105T100000
DTEND;TZID=America/New_York:20250105T104500
DTSTAMP:20260424T085905
CREATED:20260217T182418Z
LAST-MODIFIED:20260217T182418Z
UID:10003824-1736071200-1736073900@parkwayassembly.com
SUMMARY:Sunday School
DESCRIPTION:
URL:https://parkwayassembly.com/event/sunday-school-3/2025-01-05/
LOCATION:Parkway Assembly\, 5191 Eisenhower Parkway\, Macon\, GA\, 31206\, United States
END:VEVENT
BEGIN:VEVENT
DTSTART;TZID=America/New_York:20250105T110000
DTEND;TZID=America/New_York:20250105T120000
DTSTAMP:20260424T085905
CREATED:20241206T194021Z
LAST-MODIFIED:20241206T194021Z
UID:10001834-1736074800-1736078400@parkwayassembly.com
SUMMARY:Morning Worship
DESCRIPTION:
URL:https://parkwayassembly.com/event/morning-worship-2/2025-01-05/
LOCATION:Parkway Assembly\, 5191 Eisenhower Parkway\, Macon\, GA\, 31206\, United States
END:VEVENT
BEGIN:VEVENT
DTSTART;TZID=America/New_York:20250106T180000
DTEND;TZID=America/New_York:20250106T203000
DTSTAMP:20260424T085905
CREATED:20241211T145237Z
LAST-MODIFIED:20250909T112705Z
UID:10001950-1736186400-1736195400@parkwayassembly.com
SUMMARY:Pickleball
DESCRIPTION:Monday at 6:00PM – 8:30PM in the Gym.
URL:https://parkwayassembly.com/event/pickleball-3/2025-01-06/
LOCATION:Parkway Assembly Gym\, 5191 Eisenhower Parkway\, Macon\, GA\, 31206\, United States
END:VEVENT
BEGIN:VEVENT
DTSTART;TZID=America/New_York:20250108T190000
DTEND;TZID=America/New_York:20250108T200000
DTSTAMP:20260424T085905
CREATED:20241206T194241Z
LAST-MODIFIED:20250904T154802Z
UID:10001889-1736362800-1736366400@parkwayassembly.com
SUMMARY:Growth Groups and Parkway Kids
DESCRIPTION:
URL:https://parkwayassembly.com/event/discipleship-groups-royal-rangers-and-mpact-girls-3/2025-01-08/
LOCATION:Parkway Assembly\, 5191 Eisenhower Parkway\, Macon\, GA\, 31206\, United States
END:VEVENT
BEGIN:VEVENT
DTSTART;TZID=America/New_York:20250109T180000
DTEND;TZID=America/New_York:20250109T203000
DTSTAMP:20260424T085905
CREATED:20241211T145418Z
LAST-MODIFIED:20241211T145418Z
UID:10002053-1736445600-1736454600@parkwayassembly.com
SUMMARY:Pickleball
DESCRIPTION:Thursday at 6:00PM – 8:30PM in the Gym.
URL:https://parkwayassembly.com/event/pickleball-4/
LOCATION:Parkway Assembly Gym\, 5191 Eisenhower Parkway\, Macon\, GA\, 31206\, United States
END:VEVENT
BEGIN:VEVENT
DTSTART;TZID=America/New_York:20250110T200000
DTEND;TZID=America/New_York:20250111T080000
DTSTAMP:20260424T085905
CREATED:20250102T133320Z
LAST-MODIFIED:20250102T133320Z
UID:10002107-1736539200-1736582400@parkwayassembly.com
SUMMARY:Parkway Youth New Year's Lock-In
DESCRIPTION:A fun night for students as we celebrate the new year!
URL:https://parkwayassembly.com/event/parkway-youth-new-years-lock-in/
LOCATION:Parkway Assembly\, 5191 Eisenhower Parkway\, Macon\, GA\, 31206\, United States
END:VEVENT
BEGIN:VEVENT
DTSTART;TZID=America/New_York:20250112T100000
DTEND;TZID=America/New_York:20250112T104500
DTSTAMP:20260424T085905
CREATED:20260217T182418Z
LAST-MODIFIED:20260217T182418Z
UID:10003825-1736676000-1736678700@parkwayassembly.com
SUMMARY:Sunday School
DESCRIPTION:
URL:https://parkwayassembly.com/event/sunday-school-3/2025-01-12/
LOCATION:Parkway Assembly\, 5191 Eisenhower Parkway\, Macon\, GA\, 31206\, United States
END:VEVENT
BEGIN:VEVENT
DTSTART;TZID=America/New_York:20250112T110000
DTEND;TZID=America/New_York:20250112T120000
DTSTAMP:20260424T085905
CREATED:20241206T194021Z
LAST-MODIFIED:20241206T194021Z
UID:10001835-1736679600-1736683200@parkwayassembly.com
SUMMARY:Morning Worship
DESCRIPTION:
URL:https://parkwayassembly.com/event/morning-worship-2/2025-01-12/
LOCATION:Parkway Assembly\, 5191 Eisenhower Parkway\, Macon\, GA\, 31206\, United States
END:VEVENT
BEGIN:VEVENT
DTSTART;TZID=America/New_York:20250113T180000
DTEND;TZID=America/New_York:20250113T203000
DTSTAMP:20260424T085905
CREATED:20241211T145237Z
LAST-MODIFIED:20250909T112705Z
UID:10001951-1736791200-1736800200@parkwayassembly.com
SUMMARY:Pickleball
DESCRIPTION:Monday at 6:00PM – 8:30PM in the Gym.
URL:https://parkwayassembly.com/event/pickleball-3/2025-01-13/
LOCATION:Parkway Assembly Gym\, 5191 Eisenhower Parkway\, Macon\, GA\, 31206\, United States
END:VEVENT
BEGIN:VEVENT
DTSTART;TZID=America/New_York:20250115T183000
DTEND;TZID=America/New_York:20250115T190000
DTSTAMP:20260424T085905
CREATED:20250109T192001Z
LAST-MODIFIED:20250109T192001Z
UID:10002108-1736965800-1736967600@parkwayassembly.com
SUMMARY:Parkway Youth Parents & New Volunteers Meeting
DESCRIPTION:If you have a student or you’re interested in serving Parkway Youth\, join us for a brief meeting this Wednesday at 6:30PM in the Parkway Youth Room.
URL:https://parkwayassembly.com/event/parkway-youth-parents-new-volunteers-meeting/
LOCATION:Parkway Youth Room\, 5191 Eisenhower Pkwy\, Macon\, GA\, 31206\, United States
END:VEVENT
BEGIN:VEVENT
DTSTART;TZID=America/New_York:20250115T190000
DTEND;TZID=America/New_York:20250115T200000
DTSTAMP:20260424T085905
CREATED:20241206T194241Z
LAST-MODIFIED:20250904T154802Z
UID:10001890-1736967600-1736971200@parkwayassembly.com
SUMMARY:Growth Groups and Parkway Kids
DESCRIPTION:
URL:https://parkwayassembly.com/event/discipleship-groups-royal-rangers-and-mpact-girls-3/2025-01-15/
LOCATION:Parkway Assembly\, 5191 Eisenhower Parkway\, Macon\, GA\, 31206\, United States
END:VEVENT
BEGIN:VEVENT
DTSTART;TZID=America/New_York:20250118T080000
DTEND;TZID=America/New_York:20250118T170000
DTSTAMP:20260424T085905
CREATED:20250115T133751Z
LAST-MODIFIED:20250710T205022Z
UID:10003486-1737187200-1737219600@parkwayassembly.com
SUMMARY:Pickleball
DESCRIPTION:Saturday at 1:00PM – 3:30PM in the Gym.
URL:https://parkwayassembly.com/event/pickleball-4-2/2025-01-18/1/
LOCATION:Parkway Assembly Gym\, 5191 Eisenhower Parkway\, Macon\, GA\, 31206\, United States
END:VEVENT
BEGIN:VEVENT
DTSTART;TZID=America/New_York:20250118T130000
DTEND;TZID=America/New_York:20250118T153000
DTSTAMP:20260424T085905
CREATED:20250115T133751Z
LAST-MODIFIED:20250710T205022Z
UID:10002159-1737205200-1737214200@parkwayassembly.com
SUMMARY:Pickleball
DESCRIPTION:Saturday at 1:00PM – 3:30PM in the Gym.
URL:https://parkwayassembly.com/event/pickleball-4-2/2025-01-18/2/
LOCATION:Parkway Assembly Gym\, 5191 Eisenhower Parkway\, Macon\, GA\, 31206\, United States
END:VEVENT
BEGIN:VEVENT
DTSTART;TZID=America/New_York:20250119T100000
DTEND;TZID=America/New_York:20250119T104500
DTSTAMP:20260424T085905
CREATED:20260217T182418Z
LAST-MODIFIED:20260217T182418Z
UID:10003826-1737280800-1737283500@parkwayassembly.com
SUMMARY:Sunday School
DESCRIPTION:
URL:https://parkwayassembly.com/event/sunday-school-3/2025-01-19/
LOCATION:Parkway Assembly\, 5191 Eisenhower Parkway\, Macon\, GA\, 31206\, United States
END:VEVENT
BEGIN:VEVENT
DTSTART;TZID=America/New_York:20250119T110000
DTEND;TZID=America/New_York:20250119T120000
DTSTAMP:20260424T085905
CREATED:20241206T194021Z
LAST-MODIFIED:20241206T194021Z
UID:10001836-1737284400-1737288000@parkwayassembly.com
SUMMARY:Morning Worship
DESCRIPTION:
URL:https://parkwayassembly.com/event/morning-worship-2/2025-01-19/
LOCATION:Parkway Assembly\, 5191 Eisenhower Parkway\, Macon\, GA\, 31206\, United States
END:VEVENT
BEGIN:VEVENT
DTSTART;TZID=America/New_York:20250120T180000
DTEND;TZID=America/New_York:20250120T203000
DTSTAMP:20260424T085905
CREATED:20241211T145237Z
LAST-MODIFIED:20250909T112705Z
UID:10001952-1737396000-1737405000@parkwayassembly.com
SUMMARY:Pickleball
DESCRIPTION:Monday at 6:00PM – 8:30PM in the Gym.
URL:https://parkwayassembly.com/event/pickleball-3/2025-01-20/
LOCATION:Parkway Assembly Gym\, 5191 Eisenhower Parkway\, Macon\, GA\, 31206\, United States
END:VEVENT
BEGIN:VEVENT
DTSTART;TZID=America/New_York:20250122T190000
DTEND;TZID=America/New_York:20250122T200000
DTSTAMP:20260424T085905
CREATED:20241206T194241Z
LAST-MODIFIED:20250904T154802Z
UID:10001891-1737572400-1737576000@parkwayassembly.com
SUMMARY:Growth Groups and Parkway Kids
DESCRIPTION:
URL:https://parkwayassembly.com/event/discipleship-groups-royal-rangers-and-mpact-girls-3/2025-01-22/
LOCATION:Parkway Assembly\, 5191 Eisenhower Parkway\, Macon\, GA\, 31206\, United States
END:VEVENT
BEGIN:VEVENT
DTSTART;TZID=America/New_York:20250125T130000
DTEND;TZID=America/New_York:20250125T153000
DTSTAMP:20260424T085905
CREATED:20250115T133751Z
LAST-MODIFIED:20250710T205022Z
UID:10002160-1737810000-1737819000@parkwayassembly.com
SUMMARY:Pickleball
DESCRIPTION:Saturday at 1:00PM – 3:30PM in the Gym.
URL:https://parkwayassembly.com/event/pickleball-4-2/2025-01-25/
LOCATION:Parkway Assembly Gym\, 5191 Eisenhower Parkway\, Macon\, GA\, 31206\, United States
END:VEVENT
BEGIN:VEVENT
DTSTART;TZID=America/New_York:20250125T140000
DTEND;TZID=America/New_York:20250125T160000
DTSTAMP:20260424T085905
CREATED:20250115T134040Z
LAST-MODIFIED:20250115T134040Z
UID:10002208-1737813600-1737820800@parkwayassembly.com
SUMMARY:Harold Hedgepeth Memorial
DESCRIPTION:January 25th at 2pm
URL:https://parkwayassembly.com/event/harold-hedgepeth-memorial/
LOCATION:Parkway Assembly\, 5191 Eisenhower Parkway\, Macon\, GA\, 31206\, United States
END:VEVENT
BEGIN:VEVENT
DTSTART;TZID=America/New_York:20250126T100000
DTEND;TZID=America/New_York:20250126T104500
DTSTAMP:20260424T085905
CREATED:20260217T182418Z
LAST-MODIFIED:20260217T182418Z
UID:10003827-1737885600-1737888300@parkwayassembly.com
SUMMARY:Sunday School
DESCRIPTION:
URL:https://parkwayassembly.com/event/sunday-school-3/2025-01-26/
LOCATION:Parkway Assembly\, 5191 Eisenhower Parkway\, Macon\, GA\, 31206\, United States
END:VEVENT
BEGIN:VEVENT
DTSTART;TZID=America/New_York:20250126T110000
DTEND;TZID=America/New_York:20250126T120000
DTSTAMP:20260424T085905
CREATED:20241206T194021Z
LAST-MODIFIED:20241206T194021Z
UID:10001837-1737889200-1737892800@parkwayassembly.com
SUMMARY:Morning Worship
DESCRIPTION:
URL:https://parkwayassembly.com/event/morning-worship-2/2025-01-26/
LOCATION:Parkway Assembly\, 5191 Eisenhower Parkway\, Macon\, GA\, 31206\, United States
END:VEVENT
BEGIN:VEVENT
DTSTART;TZID=America/New_York:20250127T180000
DTEND;TZID=America/New_York:20250127T203000
DTSTAMP:20260424T085905
CREATED:20241211T145237Z
LAST-MODIFIED:20250909T112705Z
UID:10001953-1738000800-1738009800@parkwayassembly.com
SUMMARY:Pickleball
DESCRIPTION:Monday at 6:00PM – 8:30PM in the Gym.
URL:https://parkwayassembly.com/event/pickleball-3/2025-01-27/
LOCATION:Parkway Assembly Gym\, 5191 Eisenhower Parkway\, Macon\, GA\, 31206\, United States
END:VEVENT
BEGIN:VEVENT
DTSTART;VALUE=DATE:20250129
DTEND;VALUE=DATE:20250130
DTSTAMP:20260424T085905
CREATED:20250118T225859Z
LAST-MODIFIED:20250118T230400Z
UID:10002209-1738108800-1738195199@parkwayassembly.com
SUMMARY:Fine Arts Bake Sale
DESCRIPTION:Get some tasty treats and support our students.  Jan 29\, Feb 2\, Feb 5th. in the Fellowship Hall.
URL:https://parkwayassembly.com/event/fine-arts-bake-sale/
LOCATION:Parkway Assembly Fellowship Hall\, 5191 Eisenhower Parkway\, Macon\, GA\, 31206\, United States
END:VEVENT
BEGIN:VEVENT
DTSTART;TZID=America/New_York:20250129T190000
DTEND;TZID=America/New_York:20250129T200000
DTSTAMP:20260424T085905
CREATED:20241206T194241Z
LAST-MODIFIED:20250904T154802Z
UID:10001892-1738177200-1738180800@parkwayassembly.com
SUMMARY:Growth Groups and Parkway Kids
DESCRIPTION:
URL:https://parkwayassembly.com/event/discipleship-groups-royal-rangers-and-mpact-girls-3/2025-01-29/
LOCATION:Parkway Assembly\, 5191 Eisenhower Parkway\, Macon\, GA\, 31206\, United States
END:VEVENT
END:VCALENDAR