BEGIN:VCALENDAR
VERSION:2.0
PRODID:-//Parkway Assembly - ECPv6.15.20//NONSGML v1.0//EN
CALSCALE:GREGORIAN
METHOD:PUBLISH
X-WR-CALNAME:Parkway Assembly
X-ORIGINAL-URL:https://parkwayassembly.com
X-WR-CALDESC:Events for Parkway Assembly
REFRESH-INTERVAL;VALUE=DURATION:PT1H
X-Robots-Tag:noindex
X-PUBLISHED-TTL:PT1H
BEGIN:VTIMEZONE
TZID:America/New_York
BEGIN:DAYLIGHT
TZOFFSETFROM:-0500
TZOFFSETTO:-0400
TZNAME:EDT
DTSTART:20230312T070000
END:DAYLIGHT
BEGIN:STANDARD
TZOFFSETFROM:-0400
TZOFFSETTO:-0500
TZNAME:EST
DTSTART:20231105T060000
END:STANDARD
BEGIN:DAYLIGHT
TZOFFSETFROM:-0500
TZOFFSETTO:-0400
TZNAME:EDT
DTSTART:20240310T070000
END:DAYLIGHT
BEGIN:STANDARD
TZOFFSETFROM:-0400
TZOFFSETTO:-0500
TZNAME:EST
DTSTART:20241103T060000
END:STANDARD
BEGIN:DAYLIGHT
TZOFFSETFROM:-0500
TZOFFSETTO:-0400
TZNAME:EDT
DTSTART:20250309T070000
END:DAYLIGHT
BEGIN:STANDARD
TZOFFSETFROM:-0400
TZOFFSETTO:-0500
TZNAME:EST
DTSTART:20251102T060000
END:STANDARD
END:VTIMEZONE
BEGIN:VEVENT
DTSTART;VALUE=DATE:20241201
DTEND;VALUE=DATE:20241202
DTSTAMP:20260424T101343
CREATED:20241121T210829Z
LAST-MODIFIED:20241121T210829Z
UID:10001690-1733011200-1733097599@parkwayassembly.com
SUMMARY:Family Sunday
DESCRIPTION:Come join us as we enjoy having our kids worship with us! Let’s set an example for the next generation of believers!
URL:https://parkwayassembly.com/event/family-sunday-3/
LOCATION:Parkway Assembly\, 5191 Eisenhower Parkway\, Macon\, GA\, 31206\, United States
END:VEVENT
BEGIN:VEVENT
DTSTART;TZID=America/New_York:20241201T100000
DTEND;TZID=America/New_York:20241201T104500
DTSTAMP:20260424T101343
CREATED:20240326T191353Z
LAST-MODIFIED:20240326T192651Z
UID:10000092-1733047200-1733049900@parkwayassembly.com
SUMMARY:Sunday School
DESCRIPTION:
URL:https://parkwayassembly.com/event/sunday-school/2024-12-01/
LOCATION:Parkway Assembly\, 5191 Eisenhower Parkway\, Macon\, GA\, 31206\, United States
END:VEVENT
BEGIN:VEVENT
DTSTART;TZID=America/New_York:20241201T110000
DTEND;TZID=America/New_York:20241201T120000
DTSTAMP:20260424T101343
CREATED:20240326T191632Z
LAST-MODIFIED:20240326T192748Z
UID:10000132-1733050800-1733054400@parkwayassembly.com
SUMMARY:Morning Worship
DESCRIPTION:
URL:https://parkwayassembly.com/event/morning-worship/2024-12-01/
LOCATION:Parkway Assembly\, 5191 Eisenhower Parkway\, Macon\, GA\, 31206\, United States
END:VEVENT
BEGIN:VEVENT
DTSTART;TZID=America/New_York:20241202T180000
DTEND;TZID=America/New_York:20241202T203000
DTSTAMP:20260424T101343
CREATED:20241016T173357Z
LAST-MODIFIED:20241016T173357Z
UID:10001611-1733162400-1733171400@parkwayassembly.com
SUMMARY:Pickleball
DESCRIPTION:Monday at 6:00PM – 8:30PM in the Gym.
URL:https://parkwayassembly.com/event/pickleball/2024-12-02/
LOCATION:Parkway Assembly Gym\, 5191 Eisenhower Parkway\, Macon\, GA\, 31206\, United States
END:VEVENT
BEGIN:VEVENT
DTSTART;TZID=America/New_York:20241204T190000
DTEND;TZID=America/New_York:20241204T200000
DTSTAMP:20260424T101343
CREATED:20241115T181216Z
LAST-MODIFIED:20241115T181622Z
UID:10001682-1733338800-1733342400@parkwayassembly.com
SUMMARY:Discipleship groups\, Royal Rangers\, and Mpact girls
DESCRIPTION:
URL:https://parkwayassembly.com/event/discipleship-groups-royal-rangers-and-mpact-girls-2/2024-12-04/
LOCATION:Parkway Assembly\, 5191 Eisenhower Parkway\, Macon\, GA\, 31206\, United States
END:VEVENT
BEGIN:VEVENT
DTSTART;TZID=America/New_York:20241205T180000
DTEND;TZID=America/New_York:20241205T203000
DTSTAMP:20260424T101343
CREATED:20241016T173646Z
LAST-MODIFIED:20241016T173646Z
UID:10001647-1733421600-1733430600@parkwayassembly.com
SUMMARY:Pickleball
DESCRIPTION:Thursday at 6:00PM – 8:30PM in the Gym.
URL:https://parkwayassembly.com/event/pickleball-2/2024-12-05/
LOCATION:Parkway Assembly Gym\, 5191 Eisenhower Parkway\, Macon\, GA\, 31206\, United States
END:VEVENT
BEGIN:VEVENT
DTSTART;TZID=America/New_York:20241208T100000
DTEND;TZID=America/New_York:20241208T104500
DTSTAMP:20260424T101343
CREATED:20240326T191353Z
LAST-MODIFIED:20240326T192651Z
UID:10000093-1733652000-1733654700@parkwayassembly.com
SUMMARY:Sunday School
DESCRIPTION:
URL:https://parkwayassembly.com/event/sunday-school/2024-12-08/
LOCATION:Parkway Assembly\, 5191 Eisenhower Parkway\, Macon\, GA\, 31206\, United States
END:VEVENT
BEGIN:VEVENT
DTSTART;TZID=America/New_York:20241208T110000
DTEND;TZID=America/New_York:20241208T120000
DTSTAMP:20260424T101343
CREATED:20240326T191632Z
LAST-MODIFIED:20240326T192748Z
UID:10000133-1733655600-1733659200@parkwayassembly.com
SUMMARY:Morning Worship
DESCRIPTION:
URL:https://parkwayassembly.com/event/morning-worship/2024-12-08/
LOCATION:Parkway Assembly\, 5191 Eisenhower Parkway\, Macon\, GA\, 31206\, United States
END:VEVENT
BEGIN:VEVENT
DTSTART;TZID=America/New_York:20241208T123000
DTEND;TZID=America/New_York:20241208T143000
DTSTAMP:20260424T101343
CREATED:20241115T180345Z
LAST-MODIFIED:20241115T180511Z
UID:10001662-1733661000-1733668200@parkwayassembly.com
SUMMARY:Pastor Debbie Olds’ Retirement Lunch
DESCRIPTION:join us as we celebrate all Pastor Debbie has done for Parkway!\nSign up to bring a side dish or dessert in the lobby!
URL:https://parkwayassembly.com/event/pastor-debbie-olds-retirement-lunch/
LOCATION:Parkway Assembly\, 5191 Eisenhower Parkway\, Macon\, GA\, 31206\, United States
END:VEVENT
BEGIN:VEVENT
DTSTART;TZID=America/New_York:20241209T180000
DTEND;TZID=America/New_York:20241209T203000
DTSTAMP:20260424T101343
CREATED:20241016T173357Z
LAST-MODIFIED:20241016T173357Z
UID:10001612-1733767200-1733776200@parkwayassembly.com
SUMMARY:Pickleball
DESCRIPTION:Monday at 6:00PM – 8:30PM in the Gym.
URL:https://parkwayassembly.com/event/pickleball/2024-12-09/
LOCATION:Parkway Assembly Gym\, 5191 Eisenhower Parkway\, Macon\, GA\, 31206\, United States
END:VEVENT
BEGIN:VEVENT
DTSTART;TZID=America/New_York:20241210T183000
DTEND;TZID=America/New_York:20241210T203000
DTSTAMP:20260424T101343
CREATED:20241115T180703Z
LAST-MODIFIED:20241115T180850Z
UID:10001663-1733855400-1733862600@parkwayassembly.com
SUMMARY:Parkway Girlfriends Christmas Meeting
DESCRIPTION:
URL:https://parkwayassembly.com/event/parkway-girlfriends-christmas-meeting/
LOCATION:Parkway Assembly Fellowship Hall\, 5191 Eisenhower Parkway\, Macon\, GA\, 31206\, United States
END:VEVENT
BEGIN:VEVENT
DTSTART;TZID=America/New_York:20241211T190000
DTEND;TZID=America/New_York:20241211T200000
DTSTAMP:20260424T101343
CREATED:20241115T181216Z
LAST-MODIFIED:20241115T181622Z
UID:10001688-1733943600-1733947200@parkwayassembly.com
SUMMARY:Discipleship groups\, Royal Rangers\, and Mpact girls
DESCRIPTION:
URL:https://parkwayassembly.com/event/discipleship-groups-royal-rangers-and-mpact-girls-2/2024-12-11/
LOCATION:Parkway Assembly\, 5191 Eisenhower Parkway\, Macon\, GA\, 31206\, United States
END:VEVENT
BEGIN:VEVENT
DTSTART;TZID=America/New_York:20241212T180000
DTEND;TZID=America/New_York:20241212T203000
DTSTAMP:20260424T101343
CREATED:20241016T173646Z
LAST-MODIFIED:20241016T173646Z
UID:10001648-1734026400-1734035400@parkwayassembly.com
SUMMARY:Pickleball
DESCRIPTION:Thursday at 6:00PM – 8:30PM in the Gym.
URL:https://parkwayassembly.com/event/pickleball-2/2024-12-12/
LOCATION:Parkway Assembly Gym\, 5191 Eisenhower Parkway\, Macon\, GA\, 31206\, United States
END:VEVENT
BEGIN:VEVENT
DTSTART;TZID=America/New_York:20241214T110000
DTEND;TZID=America/New_York:20241214T180000
DTSTAMP:20260424T101343
CREATED:20241203T224758Z
LAST-MODIFIED:20241206T193054Z
UID:10001692-1734174000-1734199200@parkwayassembly.com
SUMMARY:Parkway Youth Six Flags Trip
DESCRIPTION:Dec. 14th 11am-6pm Students will meet at the church at 11am.\nPrice is $30 each student due by Dec. 8th.
URL:https://parkwayassembly.com/event/parkway-youth-six-flags-trip/
LOCATION:Parkway Assembly\, 5191 Eisenhower Parkway\, Macon\, GA\, 31206\, United States
END:VEVENT
BEGIN:VEVENT
DTSTART;TZID=America/New_York:20241215T100000
DTEND;TZID=America/New_York:20241215T104500
DTSTAMP:20260424T101343
CREATED:20240326T191353Z
LAST-MODIFIED:20240326T192651Z
UID:10000094-1734256800-1734259500@parkwayassembly.com
SUMMARY:Sunday School
DESCRIPTION:
URL:https://parkwayassembly.com/event/sunday-school/2024-12-15/
LOCATION:Parkway Assembly\, 5191 Eisenhower Parkway\, Macon\, GA\, 31206\, United States
END:VEVENT
BEGIN:VEVENT
DTSTART;TZID=America/New_York:20241215T110000
DTEND;TZID=America/New_York:20241215T113000
DTSTAMP:20260424T101343
CREATED:20241203T224609Z
LAST-MODIFIED:20241203T224648Z
UID:10001691-1734260400-1734262200@parkwayassembly.com
SUMMARY:Parkway Kids Christmas Program
DESCRIPTION:Enjoy a few special songs by our kids as we celebrate the true meaning of Christmas!
URL:https://parkwayassembly.com/event/parkway-kids-christmas-program/
LOCATION:Parkway Assembly\, 5191 Eisenhower Parkway\, Macon\, GA\, 31206\, United States
END:VEVENT
BEGIN:VEVENT
DTSTART;TZID=America/New_York:20241215T110000
DTEND;TZID=America/New_York:20241215T120000
DTSTAMP:20260424T101343
CREATED:20240326T191632Z
LAST-MODIFIED:20240326T192748Z
UID:10000134-1734260400-1734264000@parkwayassembly.com
SUMMARY:Morning Worship
DESCRIPTION:
URL:https://parkwayassembly.com/event/morning-worship/2024-12-15/
LOCATION:Parkway Assembly\, 5191 Eisenhower Parkway\, Macon\, GA\, 31206\, United States
END:VEVENT
BEGIN:VEVENT
DTSTART;TZID=America/New_York:20241216T180000
DTEND;TZID=America/New_York:20241216T203000
DTSTAMP:20260424T101343
CREATED:20241016T173357Z
LAST-MODIFIED:20241016T173357Z
UID:10001613-1734372000-1734381000@parkwayassembly.com
SUMMARY:Pickleball
DESCRIPTION:Monday at 6:00PM – 8:30PM in the Gym.
URL:https://parkwayassembly.com/event/pickleball/2024-12-16/
LOCATION:Parkway Assembly Gym\, 5191 Eisenhower Parkway\, Macon\, GA\, 31206\, United States
END:VEVENT
BEGIN:VEVENT
DTSTART;TZID=America/New_York:20241218T190000
DTEND;TZID=America/New_York:20241218T200000
DTSTAMP:20260424T101343
CREATED:20241115T181216Z
LAST-MODIFIED:20241115T181622Z
UID:10001689-1734548400-1734552000@parkwayassembly.com
SUMMARY:Discipleship groups\, Royal Rangers\, and Mpact girls
DESCRIPTION:
URL:https://parkwayassembly.com/event/discipleship-groups-royal-rangers-and-mpact-girls-2/2024-12-18/
LOCATION:Parkway Assembly\, 5191 Eisenhower Parkway\, Macon\, GA\, 31206\, United States
END:VEVENT
BEGIN:VEVENT
DTSTART;TZID=America/New_York:20241219T180000
DTEND;TZID=America/New_York:20241219T203000
DTSTAMP:20260424T101343
CREATED:20241016T173646Z
LAST-MODIFIED:20241016T173646Z
UID:10001649-1734631200-1734640200@parkwayassembly.com
SUMMARY:Pickleball
DESCRIPTION:Thursday at 6:00PM – 8:30PM in the Gym.
URL:https://parkwayassembly.com/event/pickleball-2/2024-12-19/
LOCATION:Parkway Assembly Gym\, 5191 Eisenhower Parkway\, Macon\, GA\, 31206\, United States
END:VEVENT
BEGIN:VEVENT
DTSTART;VALUE=DATE:20241222
DTEND;VALUE=DATE:20241223
DTSTAMP:20260424T101343
CREATED:20241206T193450Z
LAST-MODIFIED:20241206T193450Z
UID:10001693-1734825600-1734911999@parkwayassembly.com
SUMMARY:Christmas Candlelight Service
DESCRIPTION:Celebrate the birth of our Savior with us!
URL:https://parkwayassembly.com/event/christmas-candlelight-service/
LOCATION:GA
END:VEVENT
BEGIN:VEVENT
DTSTART;TZID=America/New_York:20241222T100000
DTEND;TZID=America/New_York:20241222T104500
DTSTAMP:20260424T101343
CREATED:20240326T191353Z
LAST-MODIFIED:20240326T192651Z
UID:10000095-1734861600-1734864300@parkwayassembly.com
SUMMARY:Sunday School
DESCRIPTION:
URL:https://parkwayassembly.com/event/sunday-school/2024-12-22/
LOCATION:Parkway Assembly\, 5191 Eisenhower Parkway\, Macon\, GA\, 31206\, United States
END:VEVENT
BEGIN:VEVENT
DTSTART;TZID=America/New_York:20241222T110000
DTEND;TZID=America/New_York:20241222T120000
DTSTAMP:20260424T101343
CREATED:20240326T191632Z
LAST-MODIFIED:20240326T192748Z
UID:10000135-1734865200-1734868800@parkwayassembly.com
SUMMARY:Morning Worship
DESCRIPTION:
URL:https://parkwayassembly.com/event/morning-worship/2024-12-22/
LOCATION:Parkway Assembly\, 5191 Eisenhower Parkway\, Macon\, GA\, 31206\, United States
END:VEVENT
BEGIN:VEVENT
DTSTART;TZID=America/New_York:20241223T180000
DTEND;TZID=America/New_York:20241223T203000
DTSTAMP:20260424T101343
CREATED:20241016T173357Z
LAST-MODIFIED:20241016T173357Z
UID:10001614-1734976800-1734985800@parkwayassembly.com
SUMMARY:Pickleball
DESCRIPTION:Monday at 6:00PM – 8:30PM in the Gym.
URL:https://parkwayassembly.com/event/pickleball/2024-12-23/
LOCATION:Parkway Assembly Gym\, 5191 Eisenhower Parkway\, Macon\, GA\, 31206\, United States
END:VEVENT
BEGIN:VEVENT
DTSTART;VALUE=DATE:20241225
DTEND;VALUE=DATE:20241226
DTSTAMP:20260424T101343
CREATED:20241114T185649Z
LAST-MODIFIED:20241114T185649Z
UID:10001661-1735084800-1735171199@parkwayassembly.com
SUMMARY:No Church Services
DESCRIPTION:
URL:https://parkwayassembly.com/event/no-church-services-2/
LOCATION:Parkway Assembly\, 5191 Eisenhower Parkway\, Macon\, GA\, 31206\, United States
END:VEVENT
BEGIN:VEVENT
DTSTART;TZID=America/New_York:20241226T180000
DTEND;TZID=America/New_York:20241226T203000
DTSTAMP:20260424T101343
CREATED:20241016T173646Z
LAST-MODIFIED:20241016T173646Z
UID:10001650-1735236000-1735245000@parkwayassembly.com
SUMMARY:Pickleball
DESCRIPTION:Thursday at 6:00PM – 8:30PM in the Gym.
URL:https://parkwayassembly.com/event/pickleball-2/2024-12-26/
LOCATION:Parkway Assembly Gym\, 5191 Eisenhower Parkway\, Macon\, GA\, 31206\, United States
END:VEVENT
BEGIN:VEVENT
DTSTART;TZID=America/New_York:20241229T100000
DTEND;TZID=America/New_York:20241229T104500
DTSTAMP:20260424T101343
CREATED:20240326T191353Z
LAST-MODIFIED:20240326T192651Z
UID:10000096-1735466400-1735469100@parkwayassembly.com
SUMMARY:Sunday School
DESCRIPTION:
URL:https://parkwayassembly.com/event/sunday-school/2024-12-29/
LOCATION:Parkway Assembly\, 5191 Eisenhower Parkway\, Macon\, GA\, 31206\, United States
END:VEVENT
BEGIN:VEVENT
DTSTART;TZID=America/New_York:20241229T110000
DTEND;TZID=America/New_York:20241229T120000
DTSTAMP:20260424T101343
CREATED:20240326T191632Z
LAST-MODIFIED:20240326T192748Z
UID:10000136-1735470000-1735473600@parkwayassembly.com
SUMMARY:Morning Worship
DESCRIPTION:
URL:https://parkwayassembly.com/event/morning-worship/2024-12-29/
LOCATION:Parkway Assembly\, 5191 Eisenhower Parkway\, Macon\, GA\, 31206\, United States
END:VEVENT
BEGIN:VEVENT
DTSTART;TZID=America/New_York:20241230T180000
DTEND;TZID=America/New_York:20241230T203000
DTSTAMP:20260424T101343
CREATED:20241016T173357Z
LAST-MODIFIED:20241016T173357Z
UID:10001615-1735581600-1735590600@parkwayassembly.com
SUMMARY:Pickleball
DESCRIPTION:Monday at 6:00PM – 8:30PM in the Gym.
URL:https://parkwayassembly.com/event/pickleball/2024-12-30/
LOCATION:Parkway Assembly Gym\, 5191 Eisenhower Parkway\, Macon\, GA\, 31206\, United States
END:VEVENT
END:VCALENDAR