BEGIN:VCALENDAR
VERSION:2.0
PRODID:-//Parkway Assembly - ECPv6.15.20//NONSGML v1.0//EN
CALSCALE:GREGORIAN
METHOD:PUBLISH
X-ORIGINAL-URL:https://parkwayassembly.com
X-WR-CALDESC:Events for Parkway Assembly
REFRESH-INTERVAL;VALUE=DURATION:PT1H
X-Robots-Tag:noindex
X-PUBLISHED-TTL:PT1H
BEGIN:VTIMEZONE
TZID:America/New_York
BEGIN:DAYLIGHT
TZOFFSETFROM:-0500
TZOFFSETTO:-0400
TZNAME:EDT
DTSTART:20240310T070000
END:DAYLIGHT
BEGIN:STANDARD
TZOFFSETFROM:-0400
TZOFFSETTO:-0500
TZNAME:EST
DTSTART:20241103T060000
END:STANDARD
BEGIN:DAYLIGHT
TZOFFSETFROM:-0500
TZOFFSETTO:-0400
TZNAME:EDT
DTSTART:20250309T070000
END:DAYLIGHT
BEGIN:STANDARD
TZOFFSETFROM:-0400
TZOFFSETTO:-0500
TZNAME:EST
DTSTART:20251102T060000
END:STANDARD
BEGIN:DAYLIGHT
TZOFFSETFROM:-0500
TZOFFSETTO:-0400
TZNAME:EDT
DTSTART:20260308T070000
END:DAYLIGHT
BEGIN:STANDARD
TZOFFSETFROM:-0400
TZOFFSETTO:-0500
TZNAME:EST
DTSTART:20261101T060000
END:STANDARD
END:VTIMEZONE
BEGIN:VEVENT
DTSTART;TZID=America/New_York:20250705T130000
DTEND;TZID=America/New_York:20250705T153000
DTSTAMP:20260424T005828
CREATED:20250115T133751Z
LAST-MODIFIED:20250710T205022Z
UID:10002183-1751720400-1751729400@parkwayassembly.com
SUMMARY:Pickleball
DESCRIPTION:Saturday at 1:00PM – 3:30PM in the Gym.
URL:https://parkwayassembly.com/event/pickleball-4-2/2025-07-05/
LOCATION:Parkway Assembly Gym\, 5191 Eisenhower Parkway\, Macon\, GA\, 31206\, United States
END:VEVENT
BEGIN:VEVENT
DTSTART;TZID=America/New_York:20250705T140000
DTEND;TZID=America/New_York:20250705T170000
DTSTAMP:20260424T005828
CREATED:20250623T121632Z
LAST-MODIFIED:20250623T121632Z
UID:10003418-1751724000-1751734800@parkwayassembly.com
SUMMARY:Parkway Youth Snow Cones & Prayer Outreach
DESCRIPTION:Our students will be heading downtown to give out snow cones and prayer to our community.
URL:https://parkwayassembly.com/event/parkway-youth-snow-cones-prayer-outreach/
LOCATION:Parkway Assembly\, 5191 Eisenhower Parkway\, Macon\, GA\, 31206\, United States
END:VEVENT
END:VCALENDAR