BEGIN:VCALENDAR
VERSION:2.0
PRODID:-//Parkway Assembly - ECPv6.15.20//NONSGML v1.0//EN
CALSCALE:GREGORIAN
METHOD:PUBLISH
X-ORIGINAL-URL:https://parkwayassembly.com
X-WR-CALDESC:Events for Parkway Assembly
REFRESH-INTERVAL;VALUE=DURATION:PT1H
X-Robots-Tag:noindex
X-PUBLISHED-TTL:PT1H
BEGIN:VTIMEZONE
TZID:America/New_York
BEGIN:DAYLIGHT
TZOFFSETFROM:-0500
TZOFFSETTO:-0400
TZNAME:EDT
DTSTART:20240310T070000
END:DAYLIGHT
BEGIN:STANDARD
TZOFFSETFROM:-0400
TZOFFSETTO:-0500
TZNAME:EST
DTSTART:20241103T060000
END:STANDARD
BEGIN:DAYLIGHT
TZOFFSETFROM:-0500
TZOFFSETTO:-0400
TZNAME:EDT
DTSTART:20250309T070000
END:DAYLIGHT
BEGIN:STANDARD
TZOFFSETFROM:-0400
TZOFFSETTO:-0500
TZNAME:EST
DTSTART:20251102T060000
END:STANDARD
BEGIN:DAYLIGHT
TZOFFSETFROM:-0500
TZOFFSETTO:-0400
TZNAME:EDT
DTSTART:20260308T070000
END:DAYLIGHT
BEGIN:STANDARD
TZOFFSETFROM:-0400
TZOFFSETTO:-0500
TZNAME:EST
DTSTART:20261101T060000
END:STANDARD
END:VTIMEZONE
BEGIN:VEVENT
DTSTART;TZID=America/New_York:20250418T170000
DTEND;TZID=America/New_York:20250418T180000
DTSTAMP:20260424T043247
CREATED:20250403T175815Z
LAST-MODIFIED:20250403T175815Z
UID:10002670-1744995600-1744999200@parkwayassembly.com
SUMMARY:Annual Good Friday Dessert Auction
DESCRIPTION:During the Good Friday Fish Fry we will hold our annual Good Friday Dessert Auction.  Please sign up if you would like to donate a cake for the dessert auction.
URL:https://parkwayassembly.com/event/annual-good-friday-dessert-auction/
LOCATION:Parkway Assembly\, 5191 Eisenhower Parkway\, Macon\, GA\, 31206\, United States
END:VEVENT
BEGIN:VEVENT
DTSTART;TZID=America/New_York:20250418T170000
DTEND;TZID=America/New_York:20250418T200000
DTSTAMP:20260424T043247
CREATED:20250306T215806Z
LAST-MODIFIED:20250411T155246Z
UID:10002651-1744995600-1745006400@parkwayassembly.com
SUMMARY:Good Friday Service and Fish Fry
DESCRIPTION:The Good Friday Fish fry is from 5pm-6:30pm and that the Good Friday Service is from 6:30pm-8pm.  Let’s celebrate the Lord with both fellowship and worship!
URL:https://parkwayassembly.com/event/good-friday-service/
LOCATION:Parkway Assembly\, 5191 Eisenhower Parkway\, Macon\, GA\, 31206\, United States
END:VEVENT
END:VCALENDAR