BEGIN:VCALENDAR
VERSION:2.0
PRODID:-//Parkway Assembly - ECPv6.15.20//NONSGML v1.0//EN
CALSCALE:GREGORIAN
METHOD:PUBLISH
X-WR-CALNAME:Parkway Assembly
X-ORIGINAL-URL:https://parkwayassembly.com
X-WR-CALDESC:Events for Parkway Assembly
REFRESH-INTERVAL;VALUE=DURATION:PT1H
X-Robots-Tag:noindex
X-PUBLISHED-TTL:PT1H
BEGIN:VTIMEZONE
TZID:America/New_York
BEGIN:DAYLIGHT
TZOFFSETFROM:-0500
TZOFFSETTO:-0400
TZNAME:EDT
DTSTART:20240310T070000
END:DAYLIGHT
BEGIN:STANDARD
TZOFFSETFROM:-0400
TZOFFSETTO:-0500
TZNAME:EST
DTSTART:20241103T060000
END:STANDARD
BEGIN:DAYLIGHT
TZOFFSETFROM:-0500
TZOFFSETTO:-0400
TZNAME:EDT
DTSTART:20250309T070000
END:DAYLIGHT
BEGIN:STANDARD
TZOFFSETFROM:-0400
TZOFFSETTO:-0500
TZNAME:EST
DTSTART:20251102T060000
END:STANDARD
BEGIN:DAYLIGHT
TZOFFSETFROM:-0500
TZOFFSETTO:-0400
TZNAME:EDT
DTSTART:20260308T070000
END:DAYLIGHT
BEGIN:STANDARD
TZOFFSETFROM:-0400
TZOFFSETTO:-0500
TZNAME:EST
DTSTART:20261101T060000
END:STANDARD
END:VTIMEZONE
BEGIN:VEVENT
DTSTART;TZID=America/New_York:20250314T183000
DTEND;TZID=America/New_York:20250315T083000
DTSTAMP:20260424T062055
CREATED:20250214T183427Z
LAST-MODIFIED:20250214T183507Z
UID:10002218-1741977000-1742027400@parkwayassembly.com
SUMMARY:Parkway Kids Camp Out
DESCRIPTION:See Pastor Holly for more information.
URL:https://parkwayassembly.com/event/parkway-kids-camp-out/
LOCATION:Parkway Assembly\, 5191 Eisenhower Parkway\, Macon\, GA\, 31206\, United States
END:VEVENT
BEGIN:VEVENT
DTSTART;VALUE=DATE:20250315
DTEND;VALUE=DATE:20250316
DTSTAMP:20260424T062055
CREATED:20250224T135818Z
LAST-MODIFIED:20250224T140017Z
UID:10002238-1741996800-1742083199@parkwayassembly.com
SUMMARY:40 Day Prayer and Fast
DESCRIPTION:Starting March 5th\, join us as together we try to grow closer to the Lord.  The church will be open for prayer Tuesdays 10-12am and Th
URL:https://parkwayassembly.com/event/40-day-prayer-and-fast/2025-03-15/
LOCATION:Parkway Assembly\, 5191 Eisenhower Parkway\, Macon\, GA\, 31206\, United States
END:VEVENT
BEGIN:VEVENT
DTSTART;TZID=America/New_York:20250315T130000
DTEND;TZID=America/New_York:20250315T153000
DTSTAMP:20260424T062055
CREATED:20250115T133751Z
LAST-MODIFIED:20250710T205022Z
UID:10002167-1742043600-1742052600@parkwayassembly.com
SUMMARY:Pickleball
DESCRIPTION:Saturday at 1:00PM – 3:30PM in the Gym.
URL:https://parkwayassembly.com/event/pickleball-4-2/2025-03-15/
LOCATION:Parkway Assembly Gym\, 5191 Eisenhower Parkway\, Macon\, GA\, 31206\, United States
END:VEVENT
END:VCALENDAR