BEGIN:VCALENDAR
VERSION:2.0
PRODID:-//Parkway Assembly - ECPv6.15.20//NONSGML v1.0//EN
CALSCALE:GREGORIAN
METHOD:PUBLISH
X-ORIGINAL-URL:https://parkwayassembly.com
X-WR-CALDESC:Events for Parkway Assembly
REFRESH-INTERVAL;VALUE=DURATION:PT1H
X-Robots-Tag:noindex
X-PUBLISHED-TTL:PT1H
BEGIN:VTIMEZONE
TZID:America/New_York
BEGIN:DAYLIGHT
TZOFFSETFROM:-0500
TZOFFSETTO:-0400
TZNAME:EDT
DTSTART:20240310T070000
END:DAYLIGHT
BEGIN:STANDARD
TZOFFSETFROM:-0400
TZOFFSETTO:-0500
TZNAME:EST
DTSTART:20241103T060000
END:STANDARD
BEGIN:DAYLIGHT
TZOFFSETFROM:-0500
TZOFFSETTO:-0400
TZNAME:EDT
DTSTART:20250309T070000
END:DAYLIGHT
BEGIN:STANDARD
TZOFFSETFROM:-0400
TZOFFSETTO:-0500
TZNAME:EST
DTSTART:20251102T060000
END:STANDARD
BEGIN:DAYLIGHT
TZOFFSETFROM:-0500
TZOFFSETTO:-0400
TZNAME:EDT
DTSTART:20260308T070000
END:DAYLIGHT
BEGIN:STANDARD
TZOFFSETFROM:-0400
TZOFFSETTO:-0500
TZNAME:EST
DTSTART:20261101T060000
END:STANDARD
END:VTIMEZONE
BEGIN:VEVENT
DTSTART;TZID=America/New_York:20250301T090000
DTEND;TZID=America/New_York:20250301T110000
DTSTAMP:20260424T062302
CREATED:20250207T220203Z
LAST-MODIFIED:20250207T220203Z
UID:10002215-1740819600-1740826800@parkwayassembly.com
SUMMARY:Men's Breakfast
DESCRIPTION:Come and enjoy some fellowship and good food with other men of God.
URL:https://parkwayassembly.com/event/mens-breakfast-2/
LOCATION:Parkway Assembly\, 5191 Eisenhower Parkway\, Macon\, GA\, 31206\, United States
END:VEVENT
BEGIN:VEVENT
DTSTART;TZID=America/New_York:20250301T130000
DTEND;TZID=America/New_York:20250301T153000
DTSTAMP:20260424T062302
CREATED:20250115T133751Z
LAST-MODIFIED:20250710T205022Z
UID:10002165-1740834000-1740843000@parkwayassembly.com
SUMMARY:Pickleball
DESCRIPTION:Saturday at 1:00PM – 3:30PM in the Gym.
URL:https://parkwayassembly.com/event/pickleball-4-2/2025-03-01/
LOCATION:Parkway Assembly Gym\, 5191 Eisenhower Parkway\, Macon\, GA\, 31206\, United States
END:VEVENT
END:VCALENDAR